BEGIN:VCALENDAR
VERSION:2.0
PRODID:-//Marion Military Institute - ECPv6.15.20//NONSGML v1.0//EN
CALSCALE:GREGORIAN
METHOD:PUBLISH
X-ORIGINAL-URL:https://marionmilitary.edu
X-WR-CALDESC:Events for Marion Military Institute
REFRESH-INTERVAL;VALUE=DURATION:PT1H
X-Robots-Tag:noindex
X-PUBLISHED-TTL:PT1H
BEGIN:VTIMEZONE
TZID:America/Chicago
BEGIN:DAYLIGHT
TZOFFSETFROM:-0600
TZOFFSETTO:-0500
TZNAME:CDT
DTSTART:20170312T080000
END:DAYLIGHT
BEGIN:STANDARD
TZOFFSETFROM:-0500
TZOFFSETTO:-0600
TZNAME:CST
DTSTART:20171105T070000
END:STANDARD
BEGIN:DAYLIGHT
TZOFFSETFROM:-0600
TZOFFSETTO:-0500
TZNAME:CDT
DTSTART:20180311T080000
END:DAYLIGHT
BEGIN:STANDARD
TZOFFSETFROM:-0500
TZOFFSETTO:-0600
TZNAME:CST
DTSTART:20181104T070000
END:STANDARD
BEGIN:DAYLIGHT
TZOFFSETFROM:-0600
TZOFFSETTO:-0500
TZNAME:CDT
DTSTART:20190310T080000
END:DAYLIGHT
BEGIN:STANDARD
TZOFFSETFROM:-0500
TZOFFSETTO:-0600
TZNAME:CST
DTSTART:20191103T070000
END:STANDARD
END:VTIMEZONE
BEGIN:VEVENT
DTSTART;VALUE=DATE:20180930
DTEND;VALUE=DATE:20181003
DTSTAMP:20260423T013411
CREATED:20180927T232317Z
LAST-MODIFIED:20180927T232317Z
UID:10004030-1538334000-1538506799@marionmilitary.edu
SUMMARY:Women's Golf
DESCRIPTION:Snead State Fall Invitational at Eagles Nest Golf Course (Lake Guntersville); Time TBA
URL:https://marionmilitary.edu/event-calendar/womens-golf/
CATEGORIES:Athletics
END:VEVENT
BEGIN:VEVENT
DTSTART;TZID=America/Chicago:20181002T080000
DTEND;TZID=America/Chicago:20181002T080000
DTSTAMP:20260423T013411
CREATED:20180920T011812Z
LAST-MODIFIED:20180920T011843Z
UID:10004019-1538467200-1538467200@marionmilitary.edu
SUMMARY:Baseball game - Home
DESCRIPTION:Exhibition game – MMI vs. Coastal Alabama Community College-North
URL:https://marionmilitary.edu/event-calendar/baseball-game-home-4/
LOCATION:Scott G. Davis Field
CATEGORIES:Athletics
END:VEVENT
END:VCALENDAR