BEGIN:VCALENDAR
VERSION:2.0
PRODID:-//Marion Military Institute - ECPv6.15.20//NONSGML v1.0//EN
CALSCALE:GREGORIAN
METHOD:PUBLISH
X-WR-CALNAME:Marion Military Institute
X-ORIGINAL-URL:https://marionmilitary.edu
X-WR-CALDESC:Events for Marion Military Institute
REFRESH-INTERVAL;VALUE=DURATION:PT1H
X-Robots-Tag:noindex
X-PUBLISHED-TTL:PT1H
BEGIN:VTIMEZONE
TZID:America/Chicago
BEGIN:DAYLIGHT
TZOFFSETFROM:-0600
TZOFFSETTO:-0500
TZNAME:CDT
DTSTART:20170312T080000
END:DAYLIGHT
BEGIN:STANDARD
TZOFFSETFROM:-0500
TZOFFSETTO:-0600
TZNAME:CST
DTSTART:20171105T070000
END:STANDARD
BEGIN:DAYLIGHT
TZOFFSETFROM:-0600
TZOFFSETTO:-0500
TZNAME:CDT
DTSTART:20180311T080000
END:DAYLIGHT
BEGIN:STANDARD
TZOFFSETFROM:-0500
TZOFFSETTO:-0600
TZNAME:CST
DTSTART:20181104T070000
END:STANDARD
BEGIN:DAYLIGHT
TZOFFSETFROM:-0600
TZOFFSETTO:-0500
TZNAME:CDT
DTSTART:20190310T080000
END:DAYLIGHT
BEGIN:STANDARD
TZOFFSETFROM:-0500
TZOFFSETTO:-0600
TZNAME:CST
DTSTART:20191103T070000
END:STANDARD
END:VTIMEZONE
BEGIN:VEVENT
DTSTART;TZID=America/Chicago:20180215T120000
DTEND;TZID=America/Chicago:20180215T140000
DTSTAMP:20260423T102506
CREATED:20180103T061722Z
LAST-MODIFIED:20180209T024126Z
UID:10003939-1518696000-1518703200@marionmilitary.edu
SUMMARY:West Alabama Mixer
DESCRIPTION:Let’s meet in the middle! Join alumni and friends from Demopolis to Selma to Marion and Greensboro for an alumni and friends gathering at the legendary Faunsdale Bar & Grill from 6-8pm. Catch up with your friends from all over West Alabama\, listen to tunes\, and learn about the exciting progress at MMI. Hosted by:\n Sean and Dana Bohannon  |  David and Sherry Bone  |  Van and Marian Carter\nSam and Lynne Givhan  |  Luke and Sarah Chandler Hallmark  |  Ray Hogg  |  Charles and Jenny Holmes\nButch and Camie Jones  |  Robert and Suzanne McKee  |  Irby and Nina Pope  |  Stanley Walters \n 
URL:https://marionmilitary.edu/event-calendar/west-alabama-mixer/
LOCATION:Faunsdale Bar and Grill\, 35558 AL-25\, Faunsdale\, AL\, 36738\, United States
CATEGORIES:Alumni
GEO:32.459468;-87.593579
X-APPLE-STRUCTURED-LOCATION;VALUE=URI;X-ADDRESS=Faunsdale Bar and Grill 35558 AL-25 Faunsdale AL 36738 United States;X-APPLE-RADIUS=500;X-TITLE=35558 AL-25:geo:-87.593579,32.459468
END:VEVENT
END:VCALENDAR