BEGIN:VCALENDAR
VERSION:2.0
PRODID:-//Marion Military Institute - ECPv6.15.20//NONSGML v1.0//EN
CALSCALE:GREGORIAN
METHOD:PUBLISH
X-ORIGINAL-URL:https://marionmilitary.edu
X-WR-CALDESC:Events for Marion Military Institute
REFRESH-INTERVAL;VALUE=DURATION:PT1H
X-Robots-Tag:noindex
X-PUBLISHED-TTL:PT1H
BEGIN:VTIMEZONE
TZID:America/Chicago
BEGIN:DAYLIGHT
TZOFFSETFROM:-0600
TZOFFSETTO:-0500
TZNAME:CDT
DTSTART:20180311T080000
END:DAYLIGHT
BEGIN:STANDARD
TZOFFSETFROM:-0500
TZOFFSETTO:-0600
TZNAME:CST
DTSTART:20181104T070000
END:STANDARD
BEGIN:DAYLIGHT
TZOFFSETFROM:-0600
TZOFFSETTO:-0500
TZNAME:CDT
DTSTART:20190310T080000
END:DAYLIGHT
BEGIN:STANDARD
TZOFFSETFROM:-0500
TZOFFSETTO:-0600
TZNAME:CST
DTSTART:20191103T070000
END:STANDARD
BEGIN:DAYLIGHT
TZOFFSETFROM:-0600
TZOFFSETTO:-0500
TZNAME:CDT
DTSTART:20200308T080000
END:DAYLIGHT
BEGIN:STANDARD
TZOFFSETFROM:-0500
TZOFFSETTO:-0600
TZNAME:CST
DTSTART:20201101T070000
END:STANDARD
END:VTIMEZONE
BEGIN:VEVENT
DTSTART;TZID=America/Chicago:20190207T120000
DTEND;TZID=America/Chicago:20190207T140000
DTSTAMP:20260421T152227
CREATED:20181115T021142Z
LAST-MODIFIED:20190124T041222Z
UID:10004071-1549540800-1549548000@marionmilitary.edu
SUMMARY:Dothan Mixer 2019
DESCRIPTION:The Alumni Brigade and area hosts cordially invite you to a happy hour complete with good eats and cocktails. Stop by after work to meet fellow Marion Made alumni and friends and hear from COL Mollahan about the latest happenings on campus. \nThursday\, February 7th\n6:00 – 8:00 pm\nDothan Country Club\n200 S Cherokee Ave \nBusiness Casual \nHosted by:\nRobert Howard\, Jim Kelly\, Wayne Prim\, and Ron Watson
URL:https://marionmilitary.edu/event-calendar/dothan/
LOCATION:Dothan Country Club\, 200 S Cherokee Ave\, Dothan\, AL\, 36301\, United States
CATEGORIES:Alumni
ORGANIZER;CN="MMI Alumni Affairs":MAILTO:alumni@marionmilitary.edu
GEO:31.2228037;-85.4168405
X-APPLE-STRUCTURED-LOCATION;VALUE=URI;X-ADDRESS=Dothan Country Club 200 S Cherokee Ave Dothan AL 36301 United States;X-APPLE-RADIUS=500;X-TITLE=200 S Cherokee Ave:geo:-85.4168405,31.2228037
END:VEVENT
BEGIN:VEVENT
DTSTART;VALUE=DATE:20190208
DTEND;VALUE=DATE:20190210
DTSTAMP:20260421T152227
CREATED:20181115T012657Z
LAST-MODIFIED:20181115T013742Z
UID:10004068-1549648800-1549735199@marionmilitary.edu
SUMMARY:MMI Band Universal Studios Performance
DESCRIPTION:The MMI Band will be featured in a theme-park parade at Universal Studios – Orlando. Time TBD. Come out and watch them on a Saturday if you’re in the Orlando area.
URL:https://marionmilitary.edu/event-calendar/dothan-mixer-2018/
CATEGORIES:Alumni
END:VEVENT
END:VCALENDAR