BEGIN:VCALENDAR
VERSION:2.0
PRODID:-//Marion Military Institute - ECPv6.15.20//NONSGML v1.0//EN
CALSCALE:GREGORIAN
METHOD:PUBLISH
X-WR-CALNAME:Marion Military Institute
X-ORIGINAL-URL:https://marionmilitary.edu
X-WR-CALDESC:Events for Marion Military Institute
REFRESH-INTERVAL;VALUE=DURATION:PT1H
X-Robots-Tag:noindex
X-PUBLISHED-TTL:PT1H
BEGIN:VTIMEZONE
TZID:America/Chicago
BEGIN:DAYLIGHT
TZOFFSETFROM:-0600
TZOFFSETTO:-0500
TZNAME:CDT
DTSTART:20180311T080000
END:DAYLIGHT
BEGIN:STANDARD
TZOFFSETFROM:-0500
TZOFFSETTO:-0600
TZNAME:CST
DTSTART:20181104T070000
END:STANDARD
BEGIN:DAYLIGHT
TZOFFSETFROM:-0600
TZOFFSETTO:-0500
TZNAME:CDT
DTSTART:20190310T080000
END:DAYLIGHT
BEGIN:STANDARD
TZOFFSETFROM:-0500
TZOFFSETTO:-0600
TZNAME:CST
DTSTART:20191103T070000
END:STANDARD
BEGIN:DAYLIGHT
TZOFFSETFROM:-0600
TZOFFSETTO:-0500
TZNAME:CDT
DTSTART:20200308T080000
END:DAYLIGHT
BEGIN:STANDARD
TZOFFSETFROM:-0500
TZOFFSETTO:-0600
TZNAME:CST
DTSTART:20201101T070000
END:STANDARD
END:VTIMEZONE
BEGIN:VEVENT
DTSTART;TZID=America/Chicago:20190308T120000
DTEND;TZID=America/Chicago:20190308T140000
DTSTAMP:20260421T184240
CREATED:20181115T020954Z
LAST-MODIFIED:20190308T043726Z
UID:10004070-1552046400-1552053600@marionmilitary.edu
SUMMARY:West Alabama Mixer
DESCRIPTION:Let’s meet in the middle in Faunsdale to visit with Marion Made alumni & friends from all over the Black Belt\, listen to some tunes\, and enjoy some cajun treats and cocktails. \nFaunsdale Bar & Grill\nFriday\, March 8th\n6:00 – 8:00 PM \nCasual \nRSVP by March 1st:\n334.683.2350 \nHosted by: Sean and Dana Bohannon\, David and Sherry Bone\, Van and Marian Carter\, Gus and Carrie Colvin\, Sam and Lynne Givhan\, Ray Hogg\, Butch and Camie Jones\, Olen Kerby\, Robert and Suzanne McKee\, Clifton and Martha McKnight\, Bill and Catherine Meador\, Irby and Nina Pope\, Stanley Walters
URL:https://marionmilitary.edu/event-calendar/west-alabama-mixer-2/
LOCATION:Faunsdale Bar and Grill\, 35558 AL-25\, Faunsdale\, AL\, 36738\, United States
CATEGORIES:Alumni
ATTACH;FMTTYPE=image/jpeg:https://marionmilitary.edu/core/uploads/2018/11/DSC_0768.jpg
ORGANIZER;CN="MMI Alumni Affairs":MAILTO:alumni@marionmilitary.edu
GEO:32.459468;-87.593579
X-APPLE-STRUCTURED-LOCATION;VALUE=URI;X-ADDRESS=Faunsdale Bar and Grill 35558 AL-25 Faunsdale AL 36738 United States;X-APPLE-RADIUS=500;X-TITLE=35558 AL-25:geo:-87.593579,32.459468
END:VEVENT
END:VCALENDAR