BEGIN:VCALENDAR
VERSION:2.0
PRODID:-//Marion Military Institute - ECPv6.15.20//NONSGML v1.0//EN
CALSCALE:GREGORIAN
METHOD:PUBLISH
X-WR-CALNAME:Marion Military Institute
X-ORIGINAL-URL:https://marionmilitary.edu
X-WR-CALDESC:Events for Marion Military Institute
REFRESH-INTERVAL;VALUE=DURATION:PT1H
X-Robots-Tag:noindex
X-PUBLISHED-TTL:PT1H
BEGIN:VTIMEZONE
TZID:America/Chicago
BEGIN:DAYLIGHT
TZOFFSETFROM:-0600
TZOFFSETTO:-0500
TZNAME:CDT
DTSTART:20160313T080000
END:DAYLIGHT
BEGIN:STANDARD
TZOFFSETFROM:-0500
TZOFFSETTO:-0600
TZNAME:CST
DTSTART:20161106T070000
END:STANDARD
BEGIN:DAYLIGHT
TZOFFSETFROM:-0600
TZOFFSETTO:-0500
TZNAME:CDT
DTSTART:20170312T080000
END:DAYLIGHT
BEGIN:STANDARD
TZOFFSETFROM:-0500
TZOFFSETTO:-0600
TZNAME:CST
DTSTART:20171105T070000
END:STANDARD
BEGIN:DAYLIGHT
TZOFFSETFROM:-0600
TZOFFSETTO:-0500
TZNAME:CDT
DTSTART:20180311T080000
END:DAYLIGHT
BEGIN:STANDARD
TZOFFSETFROM:-0500
TZOFFSETTO:-0600
TZNAME:CST
DTSTART:20181104T070000
END:STANDARD
END:VTIMEZONE
BEGIN:VEVENT
DTSTART;TZID=America/Chicago:20171018T140000
DTEND;TZID=America/Chicago:20171018T150000
DTSTAMP:20260419T204029
CREATED:20170921T015112Z
LAST-MODIFIED:20170921T015112Z
UID:10003814-1508335200-1508338800@marionmilitary.edu
SUMMARY:Men's Basketball (Home)
DESCRIPTION:MMI vs. Maxwell Air Force Base
URL:https://marionmilitary.edu/event-calendar/mens-basketball-home/
CATEGORIES:Athletics
END:VEVENT
BEGIN:VEVENT
DTSTART;VALUE=DATE:20171013
DTEND;VALUE=DATE:20171015
DTSTAMP:20260419T204029
CREATED:20170921T013930Z
LAST-MODIFIED:20170921T013930Z
UID:10003810-1507921200-1508007599@marionmilitary.edu
SUMMARY:Men's Tennis (Away; Time TBA)
DESCRIPTION:ITA Oracle Cup
URL:https://marionmilitary.edu/event-calendar/mens-tennis-away-time-tba-2/
CATEGORIES:Athletics
END:VEVENT
BEGIN:VEVENT
DTSTART;TZID=America/Chicago:20171013T080000
DTEND;TZID=America/Chicago:20171013T090000
DTSTAMP:20260419T204029
CREATED:20170921T014942Z
LAST-MODIFIED:20170921T014942Z
UID:10003813-1507881600-1507885200@marionmilitary.edu
SUMMARY:Intra-Squad Basketball (Home)
DESCRIPTION:Black/Orange intra-squad basketball game
URL:https://marionmilitary.edu/event-calendar/intra-squad-basketball-home/
CATEGORIES:Athletics
END:VEVENT
BEGIN:VEVENT
DTSTART;VALUE=DATE:20171010
DTEND;VALUE=DATE:20171014
DTSTAMP:20260419T204029
CREATED:20170921T013810Z
LAST-MODIFIED:20170921T013839Z
UID:10003809-1507662000-1507921199@marionmilitary.edu
SUMMARY:Men's and Women's Tennis (Away; Time TBA)
DESCRIPTION:ITA Oracle Cup
URL:https://marionmilitary.edu/event-calendar/mens-tennis-away-time-tba/
CATEGORIES:Athletics
END:VEVENT
BEGIN:VEVENT
DTSTART;VALUE=DATE:20171008
DTEND;VALUE=DATE:20171011
DTSTAMP:20260419T204029
CREATED:20170921T010227Z
LAST-MODIFIED:20170921T010227Z
UID:10003808-1507489200-1507661999@marionmilitary.edu
SUMMARY:Women's Golf (Away; Time TBA)
DESCRIPTION:Tiger Classic at Highland Park Golf Club
URL:https://marionmilitary.edu/event-calendar/womens-golf-away-time-tba/
CATEGORIES:Athletics
END:VEVENT
BEGIN:VEVENT
DTSTART;VALUE=DATE:20171006
DTEND;VALUE=DATE:20171009
DTSTAMP:20260419T204029
CREATED:20170921T022437Z
LAST-MODIFIED:20170921T022437Z
UID:10003821-1507316400-1507489199@marionmilitary.edu
SUMMARY:Softball (Away; Time TBA)
DESCRIPTION:At the University of North Alabama
URL:https://marionmilitary.edu/event-calendar/softball-away-time-tba-2/
CATEGORIES:Athletics
END:VEVENT
BEGIN:VEVENT
DTSTART;VALUE=DATE:20171006
DTEND;VALUE=DATE:20171008
DTSTAMP:20260419T204029
CREATED:20170921T005745Z
LAST-MODIFIED:20170921T010049Z
UID:10003807-1507316400-1507402799@marionmilitary.edu
SUMMARY:Men's Basketball (Away; Time TBA)
DESCRIPTION:BOS Jamboree at Powder Springs\, GA
URL:https://marionmilitary.edu/event-calendar/mens-basketball-away-time-tba/
CATEGORIES:Athletics
END:VEVENT
BEGIN:VEVENT
DTSTART;TZID=America/Chicago:20171006T060000
DTEND;TZID=America/Chicago:20171006T070000
DTSTAMP:20260419T204029
CREATED:20170921T005301Z
LAST-MODIFIED:20170921T005301Z
UID:10003804-1507269600-1507273200@marionmilitary.edu
SUMMARY:Baseball Game (Away)
DESCRIPTION:At Coastal Alabama Community College- East \nAt Coastal Alabama Community College- North
URL:https://marionmilitary.edu/event-calendar/baseball-game-away-6/
CATEGORIES:Athletics
END:VEVENT
BEGIN:VEVENT
DTSTART;TZID=America/Chicago:20171006T010000
DTEND;TZID=America/Chicago:20171006T020000
DTSTAMP:20260419T204029
CREATED:20170921T005446Z
LAST-MODIFIED:20170921T005446Z
UID:10003805-1507251600-1507255200@marionmilitary.edu
SUMMARY:Men's and Women's Cross Country (Away)
DESCRIPTION:FSU Invite at Tallahassee\, FL
URL:https://marionmilitary.edu/event-calendar/mens-womens-cross-country-away/
CATEGORIES:Athletics
END:VEVENT
BEGIN:VEVENT
DTSTART;TZID=America/Chicago:20171004T110000
DTEND;TZID=America/Chicago:20171004T120000
DTSTAMP:20260419T204029
CREATED:20170921T022020Z
LAST-MODIFIED:20170921T022020Z
UID:10003820-1507114800-1507118400@marionmilitary.edu
SUMMARY:Softball Game (Away)
DESCRIPTION:At The University of Alabama in Huntsville
URL:https://marionmilitary.edu/event-calendar/softball-game-away-3/
CATEGORIES:Athletics
END:VEVENT
BEGIN:VEVENT
DTSTART;TZID=America/Chicago:20171003T070000
DTEND;TZID=America/Chicago:20171003T080000
DTSTAMP:20260419T204029
CREATED:20170921T005157Z
LAST-MODIFIED:20170921T005157Z
UID:10003803-1507014000-1507017600@marionmilitary.edu
SUMMARY:Baseball Game (Home)
DESCRIPTION:MMI vs. Coastal Alabama Community College- East \nMMI vs. Coastal Alabama Community College- North
URL:https://marionmilitary.edu/event-calendar/baseball-game-home-3/
CATEGORIES:Athletics
END:VEVENT
BEGIN:VEVENT
DTSTART;VALUE=DATE:20171001
DTEND;VALUE=DATE:20171004
DTSTAMP:20260419T204029
CREATED:20170921T004841Z
LAST-MODIFIED:20170921T004841Z
UID:10003802-1506884400-1507057199@marionmilitary.edu
SUMMARY:Men's Golf (Away; Time TBA)
DESCRIPTION:District Preview at Duran Golf Club
URL:https://marionmilitary.edu/event-calendar/mens-golf-away-time-tba/
CATEGORIES:Athletics
END:VEVENT
BEGIN:VEVENT
DTSTART;VALUE=DATE:20170929
DTEND;VALUE=DATE:20171001
DTSTAMP:20260419T204029
CREATED:20170918T202257Z
LAST-MODIFIED:20170918T202257Z
UID:10003800-1506711600-1506797999@marionmilitary.edu
SUMMARY:Softball (Away; Time TBA)
DESCRIPTION:At University of West Alabama
URL:https://marionmilitary.edu/event-calendar/softball-away-time-tba/
CATEGORIES:Athletics
END:VEVENT
BEGIN:VEVENT
DTSTART;TZID=America/Chicago:20170929T070000
DTEND;TZID=America/Chicago:20170929T080000
DTSTAMP:20260419T204029
CREATED:20170918T202045Z
LAST-MODIFIED:20170918T202045Z
UID:10003799-1506668400-1506672000@marionmilitary.edu
SUMMARY:Baseball Game (Away)
DESCRIPTION:at Faulkner University
URL:https://marionmilitary.edu/event-calendar/baseball-game-away-5/
CATEGORIES:Athletics
END:VEVENT
BEGIN:VEVENT
DTSTART;TZID=America/Chicago:20170927T060000
DTEND;TZID=America/Chicago:20170927T070000
DTSTAMP:20260419T204029
CREATED:20170918T201943Z
LAST-MODIFIED:20170918T201943Z
UID:10003798-1506492000-1506495600@marionmilitary.edu
SUMMARY:Baseball Game (Away)
DESCRIPTION:At Auburn University at Montgomery
URL:https://marionmilitary.edu/event-calendar/baseball-game-away-4/
CATEGORIES:Athletics
END:VEVENT
BEGIN:VEVENT
DTSTART;TZID=America/Chicago:20170926T080000
DTEND;TZID=America/Chicago:20170926T090000
DTSTAMP:20260419T204029
CREATED:20170918T201753Z
LAST-MODIFIED:20170918T201753Z
UID:10003797-1506412800-1506416400@marionmilitary.edu
SUMMARY:Baseball Game (Home)
DESCRIPTION:MMI vs. Shelton State Community College home game at the Scott G. Davis Baseball Field
URL:https://marionmilitary.edu/event-calendar/baseball-game-home-2/
CATEGORIES:Athletics
END:VEVENT
BEGIN:VEVENT
DTSTART;VALUE=DATE:20170924
DTEND;VALUE=DATE:20170927
DTSTAMP:20260419T204029
CREATED:20170918T201619Z
LAST-MODIFIED:20170918T202520Z
UID:10003796-1506279600-1506452399@marionmilitary.edu
SUMMARY:Men's Golf Tournament (Away; Time TBA)
DESCRIPTION:At Gunter’s Landing
URL:https://marionmilitary.edu/event-calendar/mens-golf-tournament-away-time-tba/
CATEGORIES:Athletics
END:VEVENT
BEGIN:VEVENT
DTSTART;TZID=America/Chicago:20170922T050000
DTEND;TZID=America/Chicago:20170922T060000
DTSTAMP:20260419T204029
CREATED:20170918T201428Z
LAST-MODIFIED:20170918T201428Z
UID:10003795-1506056400-1506060000@marionmilitary.edu
SUMMARY:Baseball Game (Away)
DESCRIPTION:At University of West Alabama
URL:https://marionmilitary.edu/event-calendar/baseball-game-away-3/
CATEGORIES:Athletics
END:VEVENT
BEGIN:VEVENT
DTSTART;TZID=America/Chicago:20170921T090000
DTEND;TZID=America/Chicago:20170921T093000
DTSTAMP:20260419T204029
CREATED:20170918T201213Z
LAST-MODIFIED:20170918T201228Z
UID:10003794-1505984400-1505986200@marionmilitary.edu
SUMMARY:Softball Game (Away)
DESCRIPTION:MMI vs. Lurleen B. Wallace Community College
URL:https://marionmilitary.edu/event-calendar/softball-game-away/
CATEGORIES:Athletics
END:VEVENT
BEGIN:VEVENT
DTSTART;TZID=America/Chicago:20170920T070000
DTEND;TZID=America/Chicago:20170920T080000
DTSTAMP:20260419T204029
CREATED:20170918T201007Z
LAST-MODIFIED:20170918T201007Z
UID:10003793-1505890800-1505894400@marionmilitary.edu
SUMMARY:Baseball Game (Home)
DESCRIPTION:MMI vs. Coastal Alabama Community College – South
URL:https://marionmilitary.edu/event-calendar/baseball-game-home/
CATEGORIES:Athletics
END:VEVENT
BEGIN:VEVENT
DTSTART;TZID=America/Chicago:20170920T043000
DTEND;TZID=America/Chicago:20170920T053000
DTSTAMP:20260419T204029
CREATED:20170916T030437Z
LAST-MODIFIED:20170916T030437Z
UID:10003791-1505881800-1505885400@marionmilitary.edu
SUMMARY:Baseball Game (Away)
DESCRIPTION:Coaches Tournament in Montgomery\, AL
URL:https://marionmilitary.edu/event-calendar/baseball-game-away-2/
CATEGORIES:Athletics
END:VEVENT
BEGIN:VEVENT
DTSTART;VALUE=DATE:20170919
DTEND;VALUE=DATE:20170921
DTSTAMP:20260419T204029
CREATED:20170921T014748Z
LAST-MODIFIED:20170921T014748Z
UID:10003812-1505847600-1505933999@marionmilitary.edu
SUMMARY:Men's and Women's Cross Country (Away; time TBA)
DESCRIPTION:Crimson Classic at Tuscaloosa\, AL
URL:https://marionmilitary.edu/event-calendar/mens-womens-cross-country-away-time-tba/
CATEGORIES:Athletics
END:VEVENT
BEGIN:VEVENT
DTSTART;VALUE=DATE:20170919
DTEND;VALUE=DATE:20170924
DTSTAMP:20260419T204029
CREATED:20170916T030338Z
LAST-MODIFIED:20170918T192758Z
UID:10003790-1505847600-1506193199@marionmilitary.edu
SUMMARY:Men's and Women's Tennis Matches (Away)
DESCRIPTION:2017 ITA Southern Regional Championships at the Northeast Tennis Center in Meridian\, MS \nMatch Time:  All Day on Wednesday\, Thursday\, and Friday.  Saturday matches will take place in the morning and early afternoon
URL:https://marionmilitary.edu/event-calendar/mens-womens-tennis-matches-away-time-tba/
CATEGORIES:Athletics
END:VEVENT
BEGIN:VEVENT
DTSTART;TZID=America/Chicago:20170919T070000
DTEND;TZID=America/Chicago:20170919T080000
DTSTAMP:20260419T204029
CREATED:20170918T200515Z
LAST-MODIFIED:20170918T200515Z
UID:10003792-1505804400-1505808000@marionmilitary.edu
SUMMARY:Softball Game (Away)
DESCRIPTION:MMI vs. Wallace Community College\, Dothan
URL:https://marionmilitary.edu/event-calendar/softball-game-away-2/
CATEGORIES:Athletics
END:VEVENT
BEGIN:VEVENT
DTSTART;TZID=America/Chicago:20170919T040000
DTEND;TZID=America/Chicago:20170919T050000
DTSTAMP:20260419T204029
CREATED:20170916T025919Z
LAST-MODIFIED:20170916T025919Z
UID:10003789-1505793600-1505797200@marionmilitary.edu
SUMMARY:Baseball Game (Away)
DESCRIPTION:Sophomore Showcase in Tuscaloosa\, AL
URL:https://marionmilitary.edu/event-calendar/baseball-game-away/
CATEGORIES:Athletics
END:VEVENT
BEGIN:VEVENT
DTSTART;TZID=America/Chicago:20170915T060000
DTEND;TZID=America/Chicago:20170915T070000
DTSTAMP:20260419T204029
CREATED:20170914T005011Z
LAST-MODIFIED:20170914T005011Z
UID:10003788-1505455200-1505458800@marionmilitary.edu
SUMMARY:Away Baseball Game
DESCRIPTION:MMI vs. Shelton State Community College
URL:https://marionmilitary.edu/event-calendar/away-baseball-game/
CATEGORIES:Athletics
END:VEVENT
BEGIN:VEVENT
DTSTART;TZID=America/Chicago:20170914T070000
DTEND;TZID=America/Chicago:20170914T080000
DTSTAMP:20260419T204029
CREATED:20170914T004404Z
LAST-MODIFIED:20170914T005305Z
UID:10003787-1505372400-1505376000@marionmilitary.edu
SUMMARY:Home Softball Game
DESCRIPTION:The MMI Tigers play a home game on Soldier’s Field against Wallace Community College Dothan.
URL:https://marionmilitary.edu/event-calendar/home-softball-game/
LOCATION:MMI\, 1101 Washington St\, Marion\, AL\, 36756\, United States
CATEGORIES:Athletics
GEO:32.6247265;-87.3184826
X-APPLE-STRUCTURED-LOCATION;VALUE=URI;X-ADDRESS=MMI 1101 Washington St Marion AL 36756 United States;X-APPLE-RADIUS=500;X-TITLE=1101 Washington St:geo:-87.3184826,32.6247265
END:VEVENT
BEGIN:VEVENT
DTSTART;TZID=America/Chicago:20170404T080000
DTEND;TZID=America/Chicago:20170404T090000
DTSTAMP:20260419T204029
CREATED:20171025T012416Z
LAST-MODIFIED:20171025T012416Z
UID:10003849-1491292800-1491296400@marionmilitary.edu
SUMMARY:Men's and Women's Tennis- Home
DESCRIPTION:MMI vs. Wallace State Community College- Hanceville
URL:https://marionmilitary.edu/event-calendar/mens-womens-tennis-home-2/
CATEGORIES:Athletics
END:VEVENT
END:VCALENDAR