BEGIN:VCALENDAR
VERSION:2.0
PRODID:-//Marion Military Institute - ECPv6.15.20//NONSGML v1.0//EN
CALSCALE:GREGORIAN
METHOD:PUBLISH
X-ORIGINAL-URL:https://marionmilitary.edu
X-WR-CALDESC:Events for Marion Military Institute
REFRESH-INTERVAL;VALUE=DURATION:PT1H
X-Robots-Tag:noindex
X-PUBLISHED-TTL:PT1H
BEGIN:VTIMEZONE
TZID:America/Chicago
BEGIN:DAYLIGHT
TZOFFSETFROM:-0600
TZOFFSETTO:-0500
TZNAME:CDT
DTSTART:20180311T080000
END:DAYLIGHT
BEGIN:STANDARD
TZOFFSETFROM:-0500
TZOFFSETTO:-0600
TZNAME:CST
DTSTART:20181104T070000
END:STANDARD
BEGIN:DAYLIGHT
TZOFFSETFROM:-0600
TZOFFSETTO:-0500
TZNAME:CDT
DTSTART:20190310T080000
END:DAYLIGHT
BEGIN:STANDARD
TZOFFSETFROM:-0500
TZOFFSETTO:-0600
TZNAME:CST
DTSTART:20191103T070000
END:STANDARD
BEGIN:DAYLIGHT
TZOFFSETFROM:-0600
TZOFFSETTO:-0500
TZNAME:CDT
DTSTART:20200308T080000
END:DAYLIGHT
BEGIN:STANDARD
TZOFFSETFROM:-0500
TZOFFSETTO:-0600
TZNAME:CST
DTSTART:20201101T070000
END:STANDARD
END:VTIMEZONE
BEGIN:VEVENT
DTSTART;TZID=America/Chicago:20190305T070000
DTEND;TZID=America/Chicago:20190305T090000
DTSTAMP:20260423T091406
CREATED:20181120T030713Z
LAST-MODIFIED:20181120T030713Z
UID:10004101-1551769200-1551776400@marionmilitary.edu
SUMMARY:Softball - Home
DESCRIPTION:MMI vs. Lurleen B. Wallace Community College; games at 1:00 pm and 3:00 pm
URL:https://marionmilitary.edu/event-calendar/softball-home-6/
LOCATION:Soldier’s Field
CATEGORIES:Athletics
END:VEVENT
BEGIN:VEVENT
DTSTART;TZID=America/Chicago:20190306T080000
DTEND;TZID=America/Chicago:20190306T080000
DTSTAMP:20260423T091406
CREATED:20181205T035858Z
LAST-MODIFIED:20181205T035858Z
UID:10004125-1551859200-1551859200@marionmilitary.edu
SUMMARY:Women's Tennis - Away
DESCRIPTION:Opponent: Central Alabama Community College
URL:https://marionmilitary.edu/event-calendar/womens-tennis-away-3/
CATEGORIES:Athletics
END:VEVENT
BEGIN:VEVENT
DTSTART;TZID=America/Chicago:20190307T060000
DTEND;TZID=America/Chicago:20190307T110000
DTSTAMP:20260423T091406
CREATED:20181115T044707Z
LAST-MODIFIED:20181115T044707Z
UID:10004077-1551938400-1551956400@marionmilitary.edu
SUMMARY:Baseball - Away
DESCRIPTION:MMI at Central Alabama Community College; games at 12:00 pm and 3:00 pm.
URL:https://marionmilitary.edu/event-calendar/baseball-away-24/
CATEGORIES:Athletics
END:VEVENT
BEGIN:VEVENT
DTSTART;TZID=America/Chicago:20190307T070000
DTEND;TZID=America/Chicago:20190307T070000
DTSTAMP:20260423T091406
CREATED:20190206T050803Z
LAST-MODIFIED:20190206T050803Z
UID:10004139-1551942000-1551942000@marionmilitary.edu
SUMMARY:Women's Tennis - Home
DESCRIPTION:Opponent: Coastal Alabama Community College
URL:https://marionmilitary.edu/event-calendar/womens-tennis-home/
LOCATION:Paul B. Anderson Tennis Complex\, AL\, United States
CATEGORIES:Athletics
END:VEVENT
BEGIN:VEVENT
DTSTART;TZID=America/Chicago:20190307T070000
DTEND;TZID=America/Chicago:20190307T090000
DTSTAMP:20260423T091406
CREATED:20181120T030856Z
LAST-MODIFIED:20181120T030856Z
UID:10004102-1551942000-1551949200@marionmilitary.edu
SUMMARY:Softball - Home
DESCRIPTION:MMI vs. Coastal Alabama – East; games at 1:00 pm and 3:00 pm
URL:https://marionmilitary.edu/event-calendar/softball-home-9/
LOCATION:Soldier’s Field
CATEGORIES:Athletics
END:VEVENT
BEGIN:VEVENT
DTSTART;TZID=America/Chicago:20190308T070000
DTEND;TZID=America/Chicago:20190308T070000
DTSTAMP:20260423T091406
CREATED:20181205T040321Z
LAST-MODIFIED:20181205T040321Z
UID:10004126-1552028400-1552028400@marionmilitary.edu
SUMMARY:Women's Tennis - Away
DESCRIPTION:Opponent: Snead State Community College
URL:https://marionmilitary.edu/event-calendar/womens-tennis-away-4/
CATEGORIES:Athletics
END:VEVENT
BEGIN:VEVENT
DTSTART;TZID=America/Chicago:20190309T020000
DTEND;TZID=America/Chicago:20190309T110000
DTSTAMP:20260423T091406
CREATED:20181115T045043Z
LAST-MODIFIED:20181115T045043Z
UID:10004078-1552096800-1552129200@marionmilitary.edu
SUMMARY:Baseball - Home
DESCRIPTION:MMI vs. Central Alabama Community College; games at 12:00 pm and 3:00 pm.
URL:https://marionmilitary.edu/event-calendar/baseball-home-15/
LOCATION:Scott G. Davis Field
CATEGORIES:Athletics
END:VEVENT
BEGIN:VEVENT
DTSTART;TZID=America/Chicago:20190309T070000
DTEND;TZID=America/Chicago:20190309T070000
DTSTAMP:20260423T091406
CREATED:20181205T040446Z
LAST-MODIFIED:20181205T040446Z
UID:10004127-1552114800-1552114800@marionmilitary.edu
SUMMARY:Men's and Women's Tennis - Home
DESCRIPTION:Opponent: Wallace State Community College – Hanceville
URL:https://marionmilitary.edu/event-calendar/mens-and-womens-tennis-home-3/
LOCATION:Paul B. Anderson Tennis Complex\, AL\, United States
CATEGORIES:Athletics
END:VEVENT
END:VCALENDAR