BEGIN:VCALENDAR
VERSION:2.0
PRODID:-//Marion Military Institute - ECPv6.15.20//NONSGML v1.0//EN
CALSCALE:GREGORIAN
METHOD:PUBLISH
X-ORIGINAL-URL:https://marionmilitary.edu
X-WR-CALDESC:Events for Marion Military Institute
REFRESH-INTERVAL;VALUE=DURATION:PT1H
X-Robots-Tag:noindex
X-PUBLISHED-TTL:PT1H
BEGIN:VTIMEZONE
TZID:America/Chicago
BEGIN:DAYLIGHT
TZOFFSETFROM:-0600
TZOFFSETTO:-0500
TZNAME:CDT
DTSTART:20170312T080000
END:DAYLIGHT
BEGIN:STANDARD
TZOFFSETFROM:-0500
TZOFFSETTO:-0600
TZNAME:CST
DTSTART:20171105T070000
END:STANDARD
BEGIN:DAYLIGHT
TZOFFSETFROM:-0600
TZOFFSETTO:-0500
TZNAME:CDT
DTSTART:20180311T080000
END:DAYLIGHT
BEGIN:STANDARD
TZOFFSETFROM:-0500
TZOFFSETTO:-0600
TZNAME:CST
DTSTART:20181104T070000
END:STANDARD
BEGIN:DAYLIGHT
TZOFFSETFROM:-0600
TZOFFSETTO:-0500
TZNAME:CDT
DTSTART:20190310T080000
END:DAYLIGHT
BEGIN:STANDARD
TZOFFSETFROM:-0500
TZOFFSETTO:-0600
TZNAME:CST
DTSTART:20191103T070000
END:STANDARD
BEGIN:DAYLIGHT
TZOFFSETFROM:-0600
TZOFFSETTO:-0500
TZNAME:CDT
DTSTART:20200308T080000
END:DAYLIGHT
BEGIN:STANDARD
TZOFFSETFROM:-0500
TZOFFSETTO:-0600
TZNAME:CST
DTSTART:20201101T070000
END:STANDARD
END:VTIMEZONE
BEGIN:VEVENT
DTSTART;TZID=America/Chicago:20181201T093000
DTEND;TZID=America/Chicago:20181201T093000
DTSTAMP:20260422T193349
CREATED:20180928T001052Z
LAST-MODIFIED:20180928T001052Z
UID:10004044-1543656600-1543656600@marionmilitary.edu
SUMMARY:Basketball game - Home
DESCRIPTION:MMI vs. Lurleen B. Wallace Community College
URL:https://marionmilitary.edu/event-calendar/basketball-game-home-8/
CATEGORIES:Athletics
END:VEVENT
BEGIN:VEVENT
DTSTART;TZID=America/Chicago:20181204T120000
DTEND;TZID=America/Chicago:20181204T120000
DTSTAMP:20260422T193349
CREATED:20180928T001149Z
LAST-MODIFIED:20180928T001149Z
UID:10004045-1543924800-1543924800@marionmilitary.edu
SUMMARY:Basketball game - Away
DESCRIPTION:MMI vs.  South Georgia Technical College
URL:https://marionmilitary.edu/event-calendar/basketball-game-away-4/
CATEGORIES:Athletics
END:VEVENT
BEGIN:VEVENT
DTSTART;TZID=America/Chicago:20181206T130000
DTEND;TZID=America/Chicago:20181206T130000
DTSTAMP:20260422T193349
CREATED:20181205T024003Z
LAST-MODIFIED:20181205T024003Z
UID:10004119-1544101200-1544101200@marionmilitary.edu
SUMMARY:Basketball game - Home
DESCRIPTION:MMI vs. Lurleen B Wallace Community College
URL:https://marionmilitary.edu/event-calendar/basketball-game-home-11/
LOCATION:Ireland Athletic Center (IAC)
CATEGORIES:Athletics
END:VEVENT
BEGIN:VEVENT
DTSTART;VALUE=DATE:20181206
DTEND;VALUE=DATE:20181208
DTSTAMP:20260422T193349
CREATED:20180523T021816Z
LAST-MODIFIED:20180523T021816Z
UID:10003972-1544119200-1544205599@marionmilitary.edu
SUMMARY:Last Day of Classes
DESCRIPTION:
URL:https://marionmilitary.edu/event-calendar/last-day-of-classes/
END:VEVENT
BEGIN:VEVENT
DTSTART;TZID=America/Chicago:20181208T080000
DTEND;TZID=America/Chicago:20181208T080000
DTSTAMP:20260422T193349
CREATED:20180928T001302Z
LAST-MODIFIED:20180928T001302Z
UID:10004046-1544256000-1544256000@marionmilitary.edu
SUMMARY:Basketball game - Away
DESCRIPTION:MMI vs. Coastal Alabama – East
URL:https://marionmilitary.edu/event-calendar/basketball-game-away-5/
CATEGORIES:Athletics
END:VEVENT
BEGIN:VEVENT
DTSTART;VALUE=DATE:20181209
DTEND;VALUE=DATE:20181213
DTSTAMP:20260422T193349
CREATED:20180523T021915Z
LAST-MODIFIED:20180523T021915Z
UID:10003973-1544378400-1544637599@marionmilitary.edu
SUMMARY:Final Exams
DESCRIPTION:
URL:https://marionmilitary.edu/event-calendar/final-exams/
END:VEVENT
BEGIN:VEVENT
DTSTART;TZID=America/Chicago:20181212T073000
DTEND;TZID=America/Chicago:20181212T093000
DTSTAMP:20260422T193349
CREATED:20180911T200908Z
LAST-MODIFIED:20180911T200908Z
UID:10004004-1544599800-1544607000@marionmilitary.edu
SUMMARY:Christmas Break Shuttle Departure to Birmingham
DESCRIPTION:For flights departing after 1730\, a shuttle to the Birmingham Airport will leave campus at 1330. \nPlease visit this page to arrange transportation.
URL:https://marionmilitary.edu/event-calendar/christmas-break-shuttle-departure-to-birmingham/
CATEGORIES:Holidays and Breaks
END:VEVENT
BEGIN:VEVENT
DTSTART;TZID=America/Chicago:20181213T060000
DTEND;TZID=America/Chicago:20190109T020000
DTSTAMP:20260422T193349
CREATED:20180926T021038Z
LAST-MODIFIED:20180926T021038Z
UID:10004028-1544680800-1546999200@marionmilitary.edu
SUMMARY:Cadet Christmas Break
DESCRIPTION:
URL:https://marionmilitary.edu/event-calendar/cadet-christmas-break/
CATEGORIES:Holidays and Breaks
END:VEVENT
BEGIN:VEVENT
DTSTART;TZID=America/Chicago:20181214T040000
DTEND;TZID=America/Chicago:20181214T080000
DTSTAMP:20260422T193349
CREATED:20180322T001811Z
LAST-MODIFIED:20180406T193455Z
UID:10003959-1544760000-1544774400@marionmilitary.edu
SUMMARY:Graduation and Commissioning
DESCRIPTION:Customized MMI graduation invitations available through Southern Engraving.
URL:https://marionmilitary.edu/event-calendar/graduation-and-commissioning-3/
END:VEVENT
BEGIN:VEVENT
DTSTART;TZID=America/Chicago:20181214T130000
DTEND;TZID=America/Chicago:20181214T130000
DTSTAMP:20260422T193349
CREATED:20180928T001353Z
LAST-MODIFIED:20180928T001353Z
UID:10004047-1544792400-1544792400@marionmilitary.edu
SUMMARY:Basketball game - Away
DESCRIPTION:MMI vs. University of Mobile
URL:https://marionmilitary.edu/event-calendar/basketball-game-away-6/
CATEGORIES:Athletics
END:VEVENT
BEGIN:VEVENT
DTSTART;TZID=America/Chicago:20181217T093000
DTEND;TZID=America/Chicago:20181217T093000
DTSTAMP:20260422T193349
CREATED:20180928T001633Z
LAST-MODIFIED:20180928T001633Z
UID:10004048-1545039000-1545039000@marionmilitary.edu
SUMMARY:Basketball game - Home
DESCRIPTION:MMI vs. South Georgia Technical College
URL:https://marionmilitary.edu/event-calendar/basketball-game-home-9/
CATEGORIES:Athletics
END:VEVENT
BEGIN:VEVENT
DTSTART;TZID=America/Chicago:20181226T060000
DTEND;TZID=America/Chicago:20181226T080000
DTSTAMP:20260422T193349
CREATED:20181120T025852Z
LAST-MODIFIED:20181120T025852Z
UID:10004099-1545804000-1545811200@marionmilitary.edu
SUMMARY:Softball - Home
DESCRIPTION:MMI vs. Wallace Community College -Dothan; games at 12:00 pm and 2:00 pm
URL:https://marionmilitary.edu/event-calendar/softball-home-4/
CATEGORIES:Athletics
END:VEVENT
END:VCALENDAR