BEGIN:VCALENDAR
VERSION:2.0
PRODID:-//Marion Military Institute - ECPv6.15.20//NONSGML v1.0//EN
CALSCALE:GREGORIAN
METHOD:PUBLISH
X-ORIGINAL-URL:https://marionmilitary.edu
X-WR-CALDESC:Events for Marion Military Institute
REFRESH-INTERVAL;VALUE=DURATION:PT1H
X-Robots-Tag:noindex
X-PUBLISHED-TTL:PT1H
BEGIN:VTIMEZONE
TZID:America/Chicago
BEGIN:DAYLIGHT
TZOFFSETFROM:-0600
TZOFFSETTO:-0500
TZNAME:CDT
DTSTART:20180311T080000
END:DAYLIGHT
BEGIN:STANDARD
TZOFFSETFROM:-0500
TZOFFSETTO:-0600
TZNAME:CST
DTSTART:20181104T070000
END:STANDARD
BEGIN:DAYLIGHT
TZOFFSETFROM:-0600
TZOFFSETTO:-0500
TZNAME:CDT
DTSTART:20190310T080000
END:DAYLIGHT
BEGIN:STANDARD
TZOFFSETFROM:-0500
TZOFFSETTO:-0600
TZNAME:CST
DTSTART:20191103T070000
END:STANDARD
BEGIN:DAYLIGHT
TZOFFSETFROM:-0600
TZOFFSETTO:-0500
TZNAME:CDT
DTSTART:20200308T080000
END:DAYLIGHT
BEGIN:STANDARD
TZOFFSETFROM:-0500
TZOFFSETTO:-0600
TZNAME:CST
DTSTART:20201101T070000
END:STANDARD
END:VTIMEZONE
BEGIN:VEVENT
DTSTART;TZID=America/Chicago:20190302T051500
DTEND;TZID=America/Chicago:20190302T051500
DTSTAMP:20260423T102430
CREATED:20181120T030504Z
LAST-MODIFIED:20181120T030504Z
UID:10004100-1551503700-1551503700@marionmilitary.edu
SUMMARY:Softball - Away
DESCRIPTION:MMI vs. Coastal Alabama – South – Coastal Alabama Spring Invitational in Atmore\, AL
URL:https://marionmilitary.edu/event-calendar/softball-away-9/
CATEGORIES:Athletics
END:VEVENT
BEGIN:VEVENT
DTSTART;TZID=America/Chicago:20190305T070000
DTEND;TZID=America/Chicago:20190305T090000
DTSTAMP:20260423T102430
CREATED:20181120T030713Z
LAST-MODIFIED:20181120T030713Z
UID:10004101-1551769200-1551776400@marionmilitary.edu
SUMMARY:Softball - Home
DESCRIPTION:MMI vs. Lurleen B. Wallace Community College; games at 1:00 pm and 3:00 pm
URL:https://marionmilitary.edu/event-calendar/softball-home-6/
LOCATION:Soldier’s Field
CATEGORIES:Athletics
END:VEVENT
BEGIN:VEVENT
DTSTART;TZID=America/Chicago:20190307T070000
DTEND;TZID=America/Chicago:20190307T090000
DTSTAMP:20260423T102430
CREATED:20181120T030856Z
LAST-MODIFIED:20181120T030856Z
UID:10004102-1551942000-1551949200@marionmilitary.edu
SUMMARY:Softball - Home
DESCRIPTION:MMI vs. Coastal Alabama – East; games at 1:00 pm and 3:00 pm
URL:https://marionmilitary.edu/event-calendar/softball-home-9/
LOCATION:Soldier’s Field
CATEGORIES:Athletics
END:VEVENT
BEGIN:VEVENT
DTSTART;TZID=America/Chicago:20190312T070000
DTEND;TZID=America/Chicago:20190312T090000
DTSTAMP:20260423T102430
CREATED:20181120T031036Z
LAST-MODIFIED:20181120T031036Z
UID:10004103-1552374000-1552381200@marionmilitary.edu
SUMMARY:Softball - Away
DESCRIPTION:MMI at Wallace Community College – Dothan; games at 12:00 pm and 2:00 pm
URL:https://marionmilitary.edu/event-calendar/softball-away-11/
CATEGORIES:Athletics
END:VEVENT
BEGIN:VEVENT
DTSTART;TZID=America/Chicago:20190313T090000
DTEND;TZID=America/Chicago:20190313T110000
DTSTAMP:20260423T102430
CREATED:20181120T031508Z
LAST-MODIFIED:20181120T031508Z
UID:10004104-1552467600-1552474800@marionmilitary.edu
SUMMARY:Softball - Away
DESCRIPTION:MMI at Lurleen B. Wallace Community College; games at 2:00 pm and 4:00 pm
URL:https://marionmilitary.edu/event-calendar/softball-away-13/
CATEGORIES:Athletics
END:VEVENT
BEGIN:VEVENT
DTSTART;TZID=America/Chicago:20190316T070000
DTEND;TZID=America/Chicago:20190316T090000
DTSTAMP:20260423T102430
CREATED:20181120T032224Z
LAST-MODIFIED:20181120T032246Z
UID:10004105-1552719600-1552726800@marionmilitary.edu
SUMMARY:Softball - Away
DESCRIPTION:MMI at Shelton State Community College; games at 12:00 pm and 2:00 pm
URL:https://marionmilitary.edu/event-calendar/softball-away-15/
CATEGORIES:Athletics
END:VEVENT
BEGIN:VEVENT
DTSTART;TZID=America/Chicago:20190319T080000
DTEND;TZID=America/Chicago:20190319T100000
DTSTAMP:20260423T102430
CREATED:20181120T032415Z
LAST-MODIFIED:20181120T032415Z
UID:10004106-1552982400-1552989600@marionmilitary.edu
SUMMARY:Softball - Home
DESCRIPTION:MMI vs. Southern Union State Community College; games at 1:00 pm and 3:00 pm
URL:https://marionmilitary.edu/event-calendar/softball-home-13/
LOCATION:Soldier’s Field
CATEGORIES:Athletics
END:VEVENT
BEGIN:VEVENT
DTSTART;TZID=America/Chicago:20190323T080000
DTEND;TZID=America/Chicago:20190323T100000
DTSTAMP:20260423T102430
CREATED:20181120T032616Z
LAST-MODIFIED:20181120T032616Z
UID:10004107-1553328000-1553335200@marionmilitary.edu
SUMMARY:Softball - Away
DESCRIPTION:MMI at Calhoun Community College; games at 1:00 pm and 3:00 pm
URL:https://marionmilitary.edu/event-calendar/softball-away-18/
CATEGORIES:Athletics
END:VEVENT
BEGIN:VEVENT
DTSTART;TZID=America/Chicago:20190326T080000
DTEND;TZID=America/Chicago:20190326T100000
DTSTAMP:20260423T102430
CREATED:20181120T032751Z
LAST-MODIFIED:20181120T032751Z
UID:10004108-1553587200-1553594400@marionmilitary.edu
SUMMARY:Softball - Home
DESCRIPTION:MMI vs. Central Alabama Community College; games at 1:00 pm and 3:00 pm
URL:https://marionmilitary.edu/event-calendar/softball-home-15/
LOCATION:Soldier’s Field
CATEGORIES:Athletics
END:VEVENT
BEGIN:VEVENT
DTSTART;TZID=America/Chicago:20190328T080000
DTEND;TZID=America/Chicago:20190328T100000
DTSTAMP:20260423T102430
CREATED:20181120T032923Z
LAST-MODIFIED:20181120T032923Z
UID:10004109-1553760000-1553767200@marionmilitary.edu
SUMMARY:Softball - Home
DESCRIPTION:MMI vs. Bevill State Community College; games at 1:00 pm and 3:00 pm
URL:https://marionmilitary.edu/event-calendar/softball-home-17/
LOCATION:Soldier’s Field
CATEGORIES:Athletics
END:VEVENT
END:VCALENDAR