BEGIN:VCALENDAR
VERSION:2.0
PRODID:-//Marion Military Institute - ECPv6.15.20//NONSGML v1.0//EN
CALSCALE:GREGORIAN
METHOD:PUBLISH
X-ORIGINAL-URL:https://marionmilitary.edu
X-WR-CALDESC:Events for Marion Military Institute
REFRESH-INTERVAL;VALUE=DURATION:PT1H
X-Robots-Tag:noindex
X-PUBLISHED-TTL:PT1H
BEGIN:VTIMEZONE
TZID:America/Chicago
BEGIN:DAYLIGHT
TZOFFSETFROM:-0600
TZOFFSETTO:-0500
TZNAME:CDT
DTSTART:20180311T080000
END:DAYLIGHT
BEGIN:STANDARD
TZOFFSETFROM:-0500
TZOFFSETTO:-0600
TZNAME:CST
DTSTART:20181104T070000
END:STANDARD
BEGIN:DAYLIGHT
TZOFFSETFROM:-0600
TZOFFSETTO:-0500
TZNAME:CDT
DTSTART:20190310T080000
END:DAYLIGHT
BEGIN:STANDARD
TZOFFSETFROM:-0500
TZOFFSETTO:-0600
TZNAME:CST
DTSTART:20191103T070000
END:STANDARD
BEGIN:DAYLIGHT
TZOFFSETFROM:-0600
TZOFFSETTO:-0500
TZNAME:CDT
DTSTART:20200308T080000
END:DAYLIGHT
BEGIN:STANDARD
TZOFFSETFROM:-0500
TZOFFSETTO:-0600
TZNAME:CST
DTSTART:20201101T070000
END:STANDARD
END:VTIMEZONE
BEGIN:VEVENT
DTSTART;TZID=America/Chicago:20190409T080000
DTEND;TZID=America/Chicago:20190409T100000
DTSTAMP:20260423T055852
CREATED:20181120T033821Z
LAST-MODIFIED:20181120T033821Z
UID:10004116-1554796800-1554804000@marionmilitary.edu
SUMMARY:Softball - Home
DESCRIPTION:MMI vs. Shelton State Community College; games at 1:00 pm and 3:00 pm
URL:https://marionmilitary.edu/event-calendar/softball-home-20/
LOCATION:Soldier’s Field
CATEGORIES:Athletics
END:VEVENT
BEGIN:VEVENT
DTSTART;TZID=America/Chicago:20190411T080000
DTEND;TZID=America/Chicago:20190411T100000
DTSTAMP:20260423T055852
CREATED:20181120T033940Z
LAST-MODIFIED:20181120T033940Z
UID:10004117-1554969600-1554976800@marionmilitary.edu
SUMMARY:Softball - Home
DESCRIPTION:MMI vs. Calhoun Community College; games at 1:00 pm and 3:00 pm
URL:https://marionmilitary.edu/event-calendar/softball-home-22/
LOCATION:Soldier’s Field
CATEGORIES:Athletics
END:VEVENT
BEGIN:VEVENT
DTSTART;TZID=America/Chicago:20190413T080000
DTEND;TZID=America/Chicago:20190413T100000
DTSTAMP:20260423T055852
CREATED:20181120T033458Z
LAST-MODIFIED:20181120T033458Z
UID:10004113-1555142400-1555149600@marionmilitary.edu
SUMMARY:Softball - Away
DESCRIPTION:MMI at Central Alabama Community College; games at 1:00 pm ad 3:00 pm
URL:https://marionmilitary.edu/event-calendar/softball-away-24/
CATEGORIES:Athletics
END:VEVENT
END:VCALENDAR