BEGIN:VCALENDAR
VERSION:2.0
PRODID:-//Marion Military Institute - ECPv6.15.20//NONSGML v1.0//EN
CALSCALE:GREGORIAN
METHOD:PUBLISH
X-WR-CALNAME:Marion Military Institute
X-ORIGINAL-URL:https://marionmilitary.edu
X-WR-CALDESC:Events for Marion Military Institute
REFRESH-INTERVAL;VALUE=DURATION:PT1H
X-Robots-Tag:noindex
X-PUBLISHED-TTL:PT1H
BEGIN:VTIMEZONE
TZID:America/Chicago
BEGIN:DAYLIGHT
TZOFFSETFROM:-0600
TZOFFSETTO:-0500
TZNAME:CDT
DTSTART:20170312T080000
END:DAYLIGHT
BEGIN:STANDARD
TZOFFSETFROM:-0500
TZOFFSETTO:-0600
TZNAME:CST
DTSTART:20171105T070000
END:STANDARD
BEGIN:DAYLIGHT
TZOFFSETFROM:-0600
TZOFFSETTO:-0500
TZNAME:CDT
DTSTART:20180311T080000
END:DAYLIGHT
BEGIN:STANDARD
TZOFFSETFROM:-0500
TZOFFSETTO:-0600
TZNAME:CST
DTSTART:20181104T070000
END:STANDARD
BEGIN:DAYLIGHT
TZOFFSETFROM:-0600
TZOFFSETTO:-0500
TZNAME:CDT
DTSTART:20190310T080000
END:DAYLIGHT
BEGIN:STANDARD
TZOFFSETFROM:-0500
TZOFFSETTO:-0600
TZNAME:CST
DTSTART:20191103T070000
END:STANDARD
END:VTIMEZONE
BEGIN:VEVENT
DTSTART;VALUE=DATE:20180930
DTEND;VALUE=DATE:20181003
DTSTAMP:20260423T030339
CREATED:20180927T232317Z
LAST-MODIFIED:20180927T232317Z
UID:10004030-1538334000-1538506799@marionmilitary.edu
SUMMARY:Women's Golf
DESCRIPTION:Snead State Fall Invitational at Eagles Nest Golf Course (Lake Guntersville); Time TBA
URL:https://marionmilitary.edu/event-calendar/womens-golf/
CATEGORIES:Athletics
END:VEVENT
BEGIN:VEVENT
DTSTART;TZID=America/Chicago:20181002T080000
DTEND;TZID=America/Chicago:20181002T080000
DTSTAMP:20260423T030339
CREATED:20180920T011812Z
LAST-MODIFIED:20180920T011843Z
UID:10004019-1538467200-1538467200@marionmilitary.edu
SUMMARY:Baseball game - Home
DESCRIPTION:Exhibition game – MMI vs. Coastal Alabama Community College-North
URL:https://marionmilitary.edu/event-calendar/baseball-game-home-4/
LOCATION:Scott G. Davis Field
CATEGORIES:Athletics
END:VEVENT
BEGIN:VEVENT
DTSTART;TZID=America/Chicago:20181004T190000
DTEND;TZID=America/Chicago:20181004T190000
DTSTAMP:20260423T030339
CREATED:20180920T012002Z
LAST-MODIFIED:20180920T012002Z
UID:10004020-1538679600-1538679600@marionmilitary.edu
SUMMARY:Baseball game - Away
DESCRIPTION:Exhibition game – MMI vs. Faulkner University
URL:https://marionmilitary.edu/event-calendar/baseball-game-away-10/
CATEGORIES:Athletics
END:VEVENT
BEGIN:VEVENT
DTSTART;VALUE=DATE:20181004
DTEND;VALUE=DATE:20181006
DTSTAMP:20260423T030339
CREATED:20180927T234023Z
LAST-MODIFIED:20180927T234023Z
UID:10004034-1538679600-1538765999@marionmilitary.edu
SUMMARY:Men's Cross Country
DESCRIPTION:vs. Florida State University @ Tallahassee\, FL; Time TBA
URL:https://marionmilitary.edu/event-calendar/mens-cross-country/
CATEGORIES:Athletics
END:VEVENT
BEGIN:VEVENT
DTSTART;TZID=America/Chicago:20181005T080000
DTEND;TZID=America/Chicago:20181005T080000
DTSTAMP:20260423T030339
CREATED:20180928T032613Z
LAST-MODIFIED:20180928T032613Z
UID:10004049-1538726400-1538726400@marionmilitary.edu
SUMMARY:Men's and Women's Tennis - Away
DESCRIPTION:MMI vs. Martin Methodist College
URL:https://marionmilitary.edu/event-calendar/mens-and-womens-tennis-away/
CATEGORIES:Athletics
END:VEVENT
BEGIN:VEVENT
DTSTART;TZID=America/Chicago:20181005T190000
DTEND;TZID=America/Chicago:20181005T190000
DTSTAMP:20260423T030339
CREATED:20180920T004403Z
LAST-MODIFIED:20180920T004403Z
UID:10004011-1538766000-1538766000@marionmilitary.edu
SUMMARY:Softball Game - Away
DESCRIPTION:Exhibition game – MMI vs. Jacksonville State University (at Jacksonville State)
URL:https://marionmilitary.edu/event-calendar/softball-game-away-6/
CATEGORIES:Athletics
END:VEVENT
BEGIN:VEVENT
DTSTART;VALUE=DATE:20181005
DTEND;VALUE=DATE:20181007
DTSTAMP:20260423T030339
CREATED:20180927T234302Z
LAST-MODIFIED:20180927T234302Z
UID:10004036-1538766000-1538852399@marionmilitary.edu
SUMMARY:Women's Cross Country
DESCRIPTION:Watson Ford Invitational at Mississippi College; time TBA
URL:https://marionmilitary.edu/event-calendar/womens-cross-country/
CATEGORIES:Athletics
END:VEVENT
BEGIN:VEVENT
DTSTART;TZID=America/Chicago:20181006T080000
DTEND;TZID=America/Chicago:20181006T080000
DTSTAMP:20260423T030339
CREATED:20180928T032801Z
LAST-MODIFIED:20180928T032801Z
UID:10004050-1538812800-1538812800@marionmilitary.edu
SUMMARY:Men's Tennis - Away
DESCRIPTION:MMI vs. Gadsden State Community College
URL:https://marionmilitary.edu/event-calendar/mens-tennis-away-3/
CATEGORIES:Athletics
END:VEVENT
END:VCALENDAR