BEGIN:VCALENDAR
VERSION:2.0
PRODID:-//Marion Military Institute - ECPv6.15.20//NONSGML v1.0//EN
CALSCALE:GREGORIAN
METHOD:PUBLISH
X-ORIGINAL-URL:https://marionmilitary.edu
X-WR-CALDESC:Events for Marion Military Institute
REFRESH-INTERVAL;VALUE=DURATION:PT1H
X-Robots-Tag:noindex
X-PUBLISHED-TTL:PT1H
BEGIN:VTIMEZONE
TZID:America/Chicago
BEGIN:DAYLIGHT
TZOFFSETFROM:-0600
TZOFFSETTO:-0500
TZNAME:CDT
DTSTART:20170312T080000
END:DAYLIGHT
BEGIN:STANDARD
TZOFFSETFROM:-0500
TZOFFSETTO:-0600
TZNAME:CST
DTSTART:20171105T070000
END:STANDARD
BEGIN:DAYLIGHT
TZOFFSETFROM:-0600
TZOFFSETTO:-0500
TZNAME:CDT
DTSTART:20180311T080000
END:DAYLIGHT
BEGIN:STANDARD
TZOFFSETFROM:-0500
TZOFFSETTO:-0600
TZNAME:CST
DTSTART:20181104T070000
END:STANDARD
BEGIN:DAYLIGHT
TZOFFSETFROM:-0600
TZOFFSETTO:-0500
TZNAME:CDT
DTSTART:20190310T080000
END:DAYLIGHT
BEGIN:STANDARD
TZOFFSETFROM:-0500
TZOFFSETTO:-0600
TZNAME:CST
DTSTART:20191103T070000
END:STANDARD
END:VTIMEZONE
BEGIN:VEVENT
DTSTART;TZID=America/Chicago:20181116T060000
DTEND;TZID=America/Chicago:20181125T120000
DTSTAMP:20260423T025702
CREATED:20180321T235517Z
LAST-MODIFIED:20180322T002732Z
UID:10003958-1542348000-1543147200@marionmilitary.edu
SUMMARY:Cadet Thanksgiving Break
DESCRIPTION:
URL:https://marionmilitary.edu/event-calendar/thanksgiving-break/
CATEGORIES:Holidays and Breaks
END:VEVENT
BEGIN:VEVENT
DTSTART;TZID=America/Chicago:20181125T080000
DTEND;TZID=America/Chicago:20181125T080000
DTSTAMP:20260423T025702
CREATED:20180928T000810Z
LAST-MODIFIED:20180928T000810Z
UID:10004042-1543132800-1543132800@marionmilitary.edu
SUMMARY:Basketball game - Home
DESCRIPTION:MMI vs. North American University
URL:https://marionmilitary.edu/event-calendar/basketball-game-home-7/
CATEGORIES:Athletics
END:VEVENT
BEGIN:VEVENT
DTSTART;TZID=America/Chicago:20181125T083000
DTEND;TZID=America/Chicago:20181125T103000
DTSTAMP:20260423T025702
CREATED:20180911T200646Z
LAST-MODIFIED:20180911T200646Z
UID:10004003-1543134600-1543141800@marionmilitary.edu
SUMMARY:Thanksgiving Break Shuttle Return to MMI
DESCRIPTION:For flights arriving before 1430\, a shuttle from the Birmingham Airport will depart at 1430 and arrive at MMI around 1630. \nPlease visit this page to arrange transportation.
URL:https://marionmilitary.edu/event-calendar/thanksgiving-break-shuttle-return-to-mmi/
CATEGORIES:Holidays and Breaks
END:VEVENT
END:VCALENDAR