BEGIN:VCALENDAR
VERSION:2.0
PRODID:-//Marion Military Institute - ECPv6.15.20//NONSGML v1.0//EN
CALSCALE:GREGORIAN
METHOD:PUBLISH
X-WR-CALNAME:Marion Military Institute
X-ORIGINAL-URL:https://marionmilitary.edu
X-WR-CALDESC:Events for Marion Military Institute
REFRESH-INTERVAL;VALUE=DURATION:PT1H
X-Robots-Tag:noindex
X-PUBLISHED-TTL:PT1H
BEGIN:VTIMEZONE
TZID:America/Chicago
BEGIN:DAYLIGHT
TZOFFSETFROM:-0600
TZOFFSETTO:-0500
TZNAME:CDT
DTSTART:20170312T080000
END:DAYLIGHT
BEGIN:STANDARD
TZOFFSETFROM:-0500
TZOFFSETTO:-0600
TZNAME:CST
DTSTART:20171105T070000
END:STANDARD
BEGIN:DAYLIGHT
TZOFFSETFROM:-0600
TZOFFSETTO:-0500
TZNAME:CDT
DTSTART:20180311T080000
END:DAYLIGHT
BEGIN:STANDARD
TZOFFSETFROM:-0500
TZOFFSETTO:-0600
TZNAME:CST
DTSTART:20181104T070000
END:STANDARD
BEGIN:DAYLIGHT
TZOFFSETFROM:-0600
TZOFFSETTO:-0500
TZNAME:CDT
DTSTART:20190310T080000
END:DAYLIGHT
BEGIN:STANDARD
TZOFFSETFROM:-0500
TZOFFSETTO:-0600
TZNAME:CST
DTSTART:20191103T070000
END:STANDARD
END:VTIMEZONE
BEGIN:VEVENT
DTSTART;TZID=America/Chicago:20181128T070000
DTEND;TZID=America/Chicago:20181128T083000
DTSTAMP:20260422T223206
CREATED:20180807T014401Z
LAST-MODIFIED:20180810T005108Z
UID:10003995-1543388400-1543393800@marionmilitary.edu
SUMMARY:BG Steve Gilland: Distinguished Speaker
DESCRIPTION:Brigadier General Gilland is the 77th Commandant of Cadets at the U.S. Military Academy at West Point. Commissioned in 1990 from West Point as an Infantry officer he has served in a variety of tactical assignments in Air Assault\, Mechanized Infantry\, Armor\, Ranger and Special Operations units and commanded at multiple levels throughout his career. \nSubject: “Leadership”
URL:https://marionmilitary.edu/event-calendar/bg-steve-gilland-distinguished-speaker/
END:VEVENT
BEGIN:VEVENT
DTSTART;TZID=America/Chicago:20181129T130000
DTEND;TZID=America/Chicago:20181129T130000
DTSTAMP:20260422T223206
CREATED:20180928T000928Z
LAST-MODIFIED:20180928T000928Z
UID:10004043-1543496400-1543496400@marionmilitary.edu
SUMMARY:Basketball game - Away
DESCRIPTION:MMI vs. Enterprise State Community College
URL:https://marionmilitary.edu/event-calendar/basketball-game-away-3/
CATEGORIES:Athletics
END:VEVENT
BEGIN:VEVENT
DTSTART;TZID=America/Chicago:20181201T093000
DTEND;TZID=America/Chicago:20181201T093000
DTSTAMP:20260422T223206
CREATED:20180928T001052Z
LAST-MODIFIED:20180928T001052Z
UID:10004044-1543656600-1543656600@marionmilitary.edu
SUMMARY:Basketball game - Home
DESCRIPTION:MMI vs. Lurleen B. Wallace Community College
URL:https://marionmilitary.edu/event-calendar/basketball-game-home-8/
CATEGORIES:Athletics
END:VEVENT
END:VCALENDAR