BEGIN:VCALENDAR
VERSION:2.0
PRODID:-//Marion Military Institute - ECPv6.15.20//NONSGML v1.0//EN
CALSCALE:GREGORIAN
METHOD:PUBLISH
X-ORIGINAL-URL:https://marionmilitary.edu
X-WR-CALDESC:Events for Marion Military Institute
REFRESH-INTERVAL;VALUE=DURATION:PT1H
X-Robots-Tag:noindex
X-PUBLISHED-TTL:PT1H
BEGIN:VTIMEZONE
TZID:America/Chicago
BEGIN:DAYLIGHT
TZOFFSETFROM:-0600
TZOFFSETTO:-0500
TZNAME:CDT
DTSTART:20180311T080000
END:DAYLIGHT
BEGIN:STANDARD
TZOFFSETFROM:-0500
TZOFFSETTO:-0600
TZNAME:CST
DTSTART:20181104T070000
END:STANDARD
BEGIN:DAYLIGHT
TZOFFSETFROM:-0600
TZOFFSETTO:-0500
TZNAME:CDT
DTSTART:20190310T080000
END:DAYLIGHT
BEGIN:STANDARD
TZOFFSETFROM:-0500
TZOFFSETTO:-0600
TZNAME:CST
DTSTART:20191103T070000
END:STANDARD
BEGIN:DAYLIGHT
TZOFFSETFROM:-0600
TZOFFSETTO:-0500
TZNAME:CDT
DTSTART:20200308T080000
END:DAYLIGHT
BEGIN:STANDARD
TZOFFSETFROM:-0500
TZOFFSETTO:-0600
TZNAME:CST
DTSTART:20201101T070000
END:STANDARD
END:VTIMEZONE
BEGIN:VEVENT
DTSTART;TZID=America/Chicago:20190128T130000
DTEND;TZID=America/Chicago:20190128T130000
DTSTAMP:20260421T201612
CREATED:20181114T230613Z
LAST-MODIFIED:20181114T230613Z
UID:10004057-1548680400-1548680400@marionmilitary.edu
SUMMARY:Basketball - Away
DESCRIPTION:MMI at Gadsden State Community College
URL:https://marionmilitary.edu/event-calendar/basketball-away-5/
CATEGORIES:Athletics
END:VEVENT
BEGIN:VEVENT
DTSTART;TZID=America/Chicago:20190131T113000
DTEND;TZID=America/Chicago:20190131T133000
DTSTAMP:20260421T201612
CREATED:20181231T235959Z
LAST-MODIFIED:20190111T223935Z
UID:10004137-1548934200-1548941400@marionmilitary.edu
SUMMARY:Daphne Mixer 2019
DESCRIPTION:The MMI Alumni Brigade and area hosts cordially invite you to a happy hour for MMI alumni and friends \nDaphne Bayfront Pavilion\nThursday\, January 31st\n5:30 pm – 7:30 pm \n6200 Bayfront Park Drive\nDaphne\, AL 36526\nCasual
URL:https://marionmilitary.edu/event-calendar/daphnemixer/
LOCATION:Daphne Bayfront Pavilion\, 6200 Bayfront Drive\, Daphne\, AL\, 36526\, United States
CATEGORIES:Alumni
ATTACH;FMTTYPE=image/jpeg:https://marionmilitary.edu/core/uploads/2018/12/Daphne-Bayfront-Park-info.jpg
ORGANIZER;CN="MMI Alumni Affairs":MAILTO:alumni@marionmilitary.edu
GEO:30.6305556;-87.9183333
X-APPLE-STRUCTURED-LOCATION;VALUE=URI;X-ADDRESS=Daphne Bayfront Pavilion 6200 Bayfront Drive Daphne AL 36526 United States;X-APPLE-RADIUS=500;X-TITLE=6200 Bayfront Drive:geo:-87.9183333,30.6305556
END:VEVENT
BEGIN:VEVENT
DTSTART;TZID=America/Chicago:20190201T070000
DTEND;TZID=America/Chicago:20190201T070000
DTSTAMP:20260421T201612
CREATED:20181205T034245Z
LAST-MODIFIED:20181205T034245Z
UID:10004120-1549004400-1549004400@marionmilitary.edu
SUMMARY:Men's and Women's Tennis - Home
DESCRIPTION:Opponent: East Central Community College
URL:https://marionmilitary.edu/event-calendar/mens-and-womens-tennis-home/
LOCATION:Paul B. Anderson Tennis Complex\, AL\, United States
CATEGORIES:Athletics
END:VEVENT
BEGIN:VEVENT
DTSTART;TZID=America/Chicago:20190202T060000
DTEND;TZID=America/Chicago:20190202T100000
DTSTAMP:20260421T201612
CREATED:20181115T012029Z
LAST-MODIFIED:20181115T012029Z
UID:10004065-1549087200-1549101600@marionmilitary.edu
SUMMARY:Baseball - Away
DESCRIPTION:MMI at Wallace Community College – Selma; games at 12:00 pm and 2:00 pm.
URL:https://marionmilitary.edu/event-calendar/baseball-away-5/
CATEGORIES:Athletics
END:VEVENT
END:VCALENDAR