BEGIN:VCALENDAR
VERSION:2.0
PRODID:-//Marion Military Institute - ECPv6.15.20//NONSGML v1.0//EN
CALSCALE:GREGORIAN
METHOD:PUBLISH
X-WR-CALNAME:Marion Military Institute
X-ORIGINAL-URL:https://marionmilitary.edu
X-WR-CALDESC:Events for Marion Military Institute
REFRESH-INTERVAL;VALUE=DURATION:PT1H
X-Robots-Tag:noindex
X-PUBLISHED-TTL:PT1H
BEGIN:VTIMEZONE
TZID:America/Chicago
BEGIN:DAYLIGHT
TZOFFSETFROM:-0600
TZOFFSETTO:-0500
TZNAME:CDT
DTSTART:20180311T080000
END:DAYLIGHT
BEGIN:STANDARD
TZOFFSETFROM:-0500
TZOFFSETTO:-0600
TZNAME:CST
DTSTART:20181104T070000
END:STANDARD
BEGIN:DAYLIGHT
TZOFFSETFROM:-0600
TZOFFSETTO:-0500
TZNAME:CDT
DTSTART:20190310T080000
END:DAYLIGHT
BEGIN:STANDARD
TZOFFSETFROM:-0500
TZOFFSETTO:-0600
TZNAME:CST
DTSTART:20191103T070000
END:STANDARD
BEGIN:DAYLIGHT
TZOFFSETFROM:-0600
TZOFFSETTO:-0500
TZNAME:CDT
DTSTART:20200308T080000
END:DAYLIGHT
BEGIN:STANDARD
TZOFFSETFROM:-0500
TZOFFSETTO:-0600
TZNAME:CST
DTSTART:20201101T070000
END:STANDARD
END:VTIMEZONE
BEGIN:VEVENT
DTSTART;TZID=America/Chicago:20190211T110000
DTEND;TZID=America/Chicago:20190211T110000
DTSTAMP:20260423T012904
CREATED:20181114T231146Z
LAST-MODIFIED:20181114T231349Z
UID:10004060-1549882800-1549882800@marionmilitary.edu
SUMMARY:Basketball - Away
DESCRIPTION:MMI at Wallace State Community College- Hanceville
URL:https://marionmilitary.edu/event-calendar/basketball-away-7/
CATEGORIES:Athletics
END:VEVENT
BEGIN:VEVENT
DTSTART;TZID=America/Chicago:20190212T060000
DTEND;TZID=America/Chicago:20190212T100000
DTSTAMP:20260423T012904
CREATED:20181120T025534Z
LAST-MODIFIED:20181120T025534Z
UID:10004097-1549951200-1549965600@marionmilitary.edu
SUMMARY:Softball - Home
DESCRIPTION:MMI vs. Itawamba Community College – East; games at 12:00 pm and 2:00 pm
URL:https://marionmilitary.edu/event-calendar/softball-home-2/
CATEGORIES:Athletics
END:VEVENT
BEGIN:VEVENT
DTSTART;TZID=America/Chicago:20190212T070000
DTEND;TZID=America/Chicago:20190212T110000
DTSTAMP:20260423T012904
CREATED:20181120T025322Z
LAST-MODIFIED:20181120T025322Z
UID:10004096-1549954800-1549969200@marionmilitary.edu
SUMMARY:Softball - Away
DESCRIPTION:MMI at Coastal Alabama – East; games at 1:00 pm and 3:00 pm
URL:https://marionmilitary.edu/event-calendar/softball-away-5/
CATEGORIES:Athletics
END:VEVENT
BEGIN:VEVENT
DTSTART;TZID=America/Chicago:20190213T070000
DTEND;TZID=America/Chicago:20190213T070000
DTSTAMP:20260423T012904
CREATED:20190206T050034Z
LAST-MODIFIED:20190206T050034Z
UID:10004138-1550041200-1550041200@marionmilitary.edu
SUMMARY:Women's Tennis - Away
DESCRIPTION:Opponent: Wallace State Community College – Hanceville
URL:https://marionmilitary.edu/event-calendar/womens-tennis-away-5/
CATEGORIES:Athletics
END:VEVENT
BEGIN:VEVENT
DTSTART;TZID=America/Chicago:20190214T060000
DTEND;TZID=America/Chicago:20190214T100000
DTSTAMP:20260423T012904
CREATED:20181115T012901Z
LAST-MODIFIED:20181115T012901Z
UID:10004069-1550124000-1550138400@marionmilitary.edu
SUMMARY:Baseball - Away
DESCRIPTION:MMI at Bishop State Community College; games at 12:00 pm and 3:00 pm
URL:https://marionmilitary.edu/event-calendar/baseball-away-20/
CATEGORIES:Athletics
END:VEVENT
BEGIN:VEVENT
DTSTART;TZID=America/Chicago:20190214T130000
DTEND;TZID=America/Chicago:20190214T130000
DTSTAMP:20260423T012904
CREATED:20181114T231842Z
LAST-MODIFIED:20181114T231842Z
UID:10004061-1550149200-1550149200@marionmilitary.edu
SUMMARY:Basketball - Home
DESCRIPTION:MMI vs. Snead State Community College
URL:https://marionmilitary.edu/event-calendar/basketball-home-5/
LOCATION:Ireland Athletic Center (IAC)
CATEGORIES:Athletics
END:VEVENT
BEGIN:VEVENT
DTSTART;TZID=America/Chicago:20190215T060000
DTEND;TZID=America/Chicago:20190215T110000
DTSTAMP:20260423T012904
CREATED:20181115T031721Z
LAST-MODIFIED:20181115T031721Z
UID:10004072-1550210400-1550228400@marionmilitary.edu
SUMMARY:Baseball - Away
DESCRIPTION:MMI at Coastal Alabama – East; games at 12:00 pm and 3:00 pm
URL:https://marionmilitary.edu/event-calendar/baseball-away-21/
CATEGORIES:Athletics
END:VEVENT
BEGIN:VEVENT
DTSTART;TZID=America/Chicago:20190215T070000
DTEND;TZID=America/Chicago:20190215T070000
DTSTAMP:20260423T012904
CREATED:20181205T034531Z
LAST-MODIFIED:20181205T034531Z
UID:10004122-1550214000-1550214000@marionmilitary.edu
SUMMARY:Men's and Women's Tennis - Away
DESCRIPTION:Opponent: Wallace State Community College – Hanceville
URL:https://marionmilitary.edu/event-calendar/mens-and-womens-tennis-away-2/
CATEGORIES:Athletics
END:VEVENT
BEGIN:VEVENT
DTSTART;TZID=America/Chicago:20190216T070000
DTEND;TZID=America/Chicago:20190216T070000
DTSTAMP:20260423T012904
CREATED:20181205T034811Z
LAST-MODIFIED:20181205T035034Z
UID:10004123-1550300400-1550300400@marionmilitary.edu
SUMMARY:Men's Tennis - Home
DESCRIPTION:Opponent: Gadsden State Community College
URL:https://marionmilitary.edu/event-calendar/mens-tennis-home-2/
LOCATION:Paul B. Anderson Tennis Complex\, AL\, United States
CATEGORIES:Athletics
END:VEVENT
END:VCALENDAR