BEGIN:VCALENDAR
VERSION:2.0
PRODID:-//Marion Military Institute - ECPv6.15.20//NONSGML v1.0//EN
CALSCALE:GREGORIAN
METHOD:PUBLISH
X-WR-CALNAME:Marion Military Institute
X-ORIGINAL-URL:https://marionmilitary.edu
X-WR-CALDESC:Events for Marion Military Institute
REFRESH-INTERVAL;VALUE=DURATION:PT1H
X-Robots-Tag:noindex
X-PUBLISHED-TTL:PT1H
BEGIN:VTIMEZONE
TZID:America/Chicago
BEGIN:DAYLIGHT
TZOFFSETFROM:-0600
TZOFFSETTO:-0500
TZNAME:CDT
DTSTART:20180311T080000
END:DAYLIGHT
BEGIN:STANDARD
TZOFFSETFROM:-0500
TZOFFSETTO:-0600
TZNAME:CST
DTSTART:20181104T070000
END:STANDARD
BEGIN:DAYLIGHT
TZOFFSETFROM:-0600
TZOFFSETTO:-0500
TZNAME:CDT
DTSTART:20190310T080000
END:DAYLIGHT
BEGIN:STANDARD
TZOFFSETFROM:-0500
TZOFFSETTO:-0600
TZNAME:CST
DTSTART:20191103T070000
END:STANDARD
BEGIN:DAYLIGHT
TZOFFSETFROM:-0600
TZOFFSETTO:-0500
TZNAME:CDT
DTSTART:20200308T080000
END:DAYLIGHT
BEGIN:STANDARD
TZOFFSETFROM:-0500
TZOFFSETTO:-0600
TZNAME:CST
DTSTART:20201101T070000
END:STANDARD
END:VTIMEZONE
BEGIN:VEVENT
DTSTART;TZID=America/Chicago:20190218T130000
DTEND;TZID=America/Chicago:20190218T130000
DTSTAMP:20260423T055227
CREATED:20181114T233333Z
LAST-MODIFIED:20181114T233333Z
UID:10004062-1550494800-1550494800@marionmilitary.edu
SUMMARY:Basketball - Away
DESCRIPTION:MMI at Snead State Community College
URL:https://marionmilitary.edu/event-calendar/basketball-away-8/
CATEGORIES:Athletics
END:VEVENT
BEGIN:VEVENT
DTSTART;TZID=America/Chicago:20190219T080000
DTEND;TZID=America/Chicago:20190219T100000
DTSTAMP:20260423T055227
CREATED:20181120T025722Z
LAST-MODIFIED:20181120T025722Z
UID:10004098-1550563200-1550570400@marionmilitary.edu
SUMMARY:Softball - Away
DESCRIPTION:MMI at Mississippi Gulf Coast Community College; games at 2:00 pm and 4:00 pm
URL:https://marionmilitary.edu/event-calendar/softball-away-7/
CATEGORIES:Athletics
END:VEVENT
BEGIN:VEVENT
DTSTART;TZID=America/Chicago:20190220T060000
DTEND;TZID=America/Chicago:20190220T110000
DTSTAMP:20260423T055227
CREATED:20181115T043440Z
LAST-MODIFIED:20181115T043440Z
UID:10004073-1550642400-1550660400@marionmilitary.edu
SUMMARY:Baseball - Away
DESCRIPTION:MMI at Faulkner University JV; games at 12:00 pm and 3:00 pm.
URL:https://marionmilitary.edu/event-calendar/baseball-away-22/
END:VEVENT
BEGIN:VEVENT
DTSTART;TZID=America/Chicago:20190221T060000
DTEND;TZID=America/Chicago:20190221T110000
DTSTAMP:20260423T055227
CREATED:20181115T043908Z
LAST-MODIFIED:20181115T043908Z
UID:10004074-1550728800-1550746800@marionmilitary.edu
SUMMARY:Baseball - Home
DESCRIPTION:MMI vs. Bishop State Community College; games at 12:00 pm and 3:00 pm
URL:https://marionmilitary.edu/event-calendar/baseball-home-13/
LOCATION:Scott G. Davis Field
CATEGORIES:Athletics
END:VEVENT
BEGIN:VEVENT
DTSTART;TZID=America/Chicago:20190221T070000
DTEND;TZID=America/Chicago:20190221T070000
DTSTAMP:20260423T055227
CREATED:20181205T035145Z
LAST-MODIFIED:20181205T035145Z
UID:10004124-1550732400-1550732400@marionmilitary.edu
SUMMARY:Men's and Women's Tennis - Home
DESCRIPTION:Opponent:  Coastal Alabama Community College
URL:https://marionmilitary.edu/event-calendar/mens-and-womens-tennis-home-2/
LOCATION:Paul B. Anderson Tennis Complex\, AL\, United States
CATEGORIES:Athletics
END:VEVENT
BEGIN:VEVENT
DTSTART;TZID=America/Chicago:20190221T130000
DTEND;TZID=America/Chicago:20190221T130000
DTSTAMP:20260423T055227
CREATED:20181114T233907Z
LAST-MODIFIED:20181205T031422Z
UID:10004063-1550754000-1550754000@marionmilitary.edu
SUMMARY:Basketball - Away
DESCRIPTION:MMI at Lawson State Community College
URL:https://marionmilitary.edu/event-calendar/basketball-away-9/
CATEGORIES:Athletics
END:VEVENT
BEGIN:VEVENT
DTSTART;TZID=America/Chicago:20190222T090000
DTEND;TZID=America/Chicago:20190222T103000
DTSTAMP:20260423T055227
CREATED:20180830T020005Z
LAST-MODIFIED:20181115T021745Z
UID:10004000-1550826000-1550831400@marionmilitary.edu
SUMMARY:Donor Recognition Ceremony Parade
DESCRIPTION:This parade follows an annual ceremony to recognize MMI’s donors for their generosity and dedication to the vision of the institution.
URL:https://marionmilitary.edu/event-calendar/donor-recognition-ceremony-parade/
END:VEVENT
BEGIN:VEVENT
DTSTART;TZID=America/Chicago:20190223T040000
DTEND;TZID=America/Chicago:20190223T060000
DTSTAMP:20260423T055227
CREATED:20181115T224417Z
LAST-MODIFIED:20181115T224417Z
UID:10004093-1550894400-1550901600@marionmilitary.edu
SUMMARY:Men's Tennis - Away
DESCRIPTION:MMI at Meridian Community College
URL:https://marionmilitary.edu/event-calendar/mens-tennis-away-4/
CATEGORIES:Athletics
END:VEVENT
END:VCALENDAR