BEGIN:VCALENDAR
VERSION:2.0
PRODID:-//Marion Military Institute - ECPv6.15.20//NONSGML v1.0//EN
CALSCALE:GREGORIAN
METHOD:PUBLISH
X-ORIGINAL-URL:https://marionmilitary.edu
X-WR-CALDESC:Events for Marion Military Institute
REFRESH-INTERVAL;VALUE=DURATION:PT1H
X-Robots-Tag:noindex
X-PUBLISHED-TTL:PT1H
BEGIN:VTIMEZONE
TZID:America/Chicago
BEGIN:DAYLIGHT
TZOFFSETFROM:-0600
TZOFFSETTO:-0500
TZNAME:CDT
DTSTART:20180311T080000
END:DAYLIGHT
BEGIN:STANDARD
TZOFFSETFROM:-0500
TZOFFSETTO:-0600
TZNAME:CST
DTSTART:20181104T070000
END:STANDARD
BEGIN:DAYLIGHT
TZOFFSETFROM:-0600
TZOFFSETTO:-0500
TZNAME:CDT
DTSTART:20190310T080000
END:DAYLIGHT
BEGIN:STANDARD
TZOFFSETFROM:-0500
TZOFFSETTO:-0600
TZNAME:CST
DTSTART:20191103T070000
END:STANDARD
BEGIN:DAYLIGHT
TZOFFSETFROM:-0600
TZOFFSETTO:-0500
TZNAME:CDT
DTSTART:20200308T080000
END:DAYLIGHT
BEGIN:STANDARD
TZOFFSETFROM:-0500
TZOFFSETTO:-0600
TZNAME:CST
DTSTART:20201101T070000
END:STANDARD
END:VTIMEZONE
BEGIN:VEVENT
DTSTART;TZID=America/Chicago:20190225T130000
DTEND;TZID=America/Chicago:20190225T130000
DTSTAMP:20260422T223425
CREATED:20181114T234013Z
LAST-MODIFIED:20181114T234013Z
UID:10004064-1551099600-1551099600@marionmilitary.edu
SUMMARY:Basketball - Home
DESCRIPTION:MMI vs. Gadsden State Community College
URL:https://marionmilitary.edu/event-calendar/basketball-home-6/
LOCATION:Ireland Athletic Center (IAC)
CATEGORIES:Athletics
END:VEVENT
BEGIN:VEVENT
DTSTART;TZID=America/Chicago:20190227T060000
DTEND;TZID=America/Chicago:20190227T110000
DTSTAMP:20260422T223425
CREATED:20181115T044018Z
LAST-MODIFIED:20181115T044018Z
UID:10004075-1551247200-1551265200@marionmilitary.edu
SUMMARY:Baseball - Home
DESCRIPTION:MMI vs. Coastal Alabama – North; games at 12:00 pm and 3:00 pm
URL:https://marionmilitary.edu/event-calendar/baseball-home-14/
LOCATION:Scott G. Davis Field
CATEGORIES:Athletics
END:VEVENT
BEGIN:VEVENT
DTSTART;TZID=America/Chicago:20190301T060000
DTEND;TZID=America/Chicago:20190301T110000
DTSTAMP:20260422T223425
CREATED:20181115T044335Z
LAST-MODIFIED:20181115T044335Z
UID:10004076-1551420000-1551438000@marionmilitary.edu
SUMMARY:Baseball - Away
DESCRIPTION:MMI at Coastal Alabama- North; games at 12:00 pm and 3:00 pm.
URL:https://marionmilitary.edu/event-calendar/baseball-away-23/
CATEGORIES:Athletics
END:VEVENT
BEGIN:VEVENT
DTSTART;TZID=America/Chicago:20190302T051500
DTEND;TZID=America/Chicago:20190302T051500
DTSTAMP:20260422T223425
CREATED:20181120T030504Z
LAST-MODIFIED:20181120T030504Z
UID:10004100-1551503700-1551503700@marionmilitary.edu
SUMMARY:Softball - Away
DESCRIPTION:MMI vs. Coastal Alabama – South – Coastal Alabama Spring Invitational in Atmore\, AL
URL:https://marionmilitary.edu/event-calendar/softball-away-9/
CATEGORIES:Athletics
END:VEVENT
END:VCALENDAR