BEGIN:VCALENDAR
VERSION:2.0
PRODID:-//Marion Military Institute - ECPv6.15.20//NONSGML v1.0//EN
CALSCALE:GREGORIAN
METHOD:PUBLISH
X-ORIGINAL-URL:https://marionmilitary.edu
X-WR-CALDESC:Events for Marion Military Institute
REFRESH-INTERVAL;VALUE=DURATION:PT1H
X-Robots-Tag:noindex
X-PUBLISHED-TTL:PT1H
BEGIN:VTIMEZONE
TZID:America/Chicago
BEGIN:DAYLIGHT
TZOFFSETFROM:-0600
TZOFFSETTO:-0500
TZNAME:CDT
DTSTART:20180311T080000
END:DAYLIGHT
BEGIN:STANDARD
TZOFFSETFROM:-0500
TZOFFSETTO:-0600
TZNAME:CST
DTSTART:20181104T070000
END:STANDARD
BEGIN:DAYLIGHT
TZOFFSETFROM:-0600
TZOFFSETTO:-0500
TZNAME:CDT
DTSTART:20190310T080000
END:DAYLIGHT
BEGIN:STANDARD
TZOFFSETFROM:-0500
TZOFFSETTO:-0600
TZNAME:CST
DTSTART:20191103T070000
END:STANDARD
BEGIN:DAYLIGHT
TZOFFSETFROM:-0600
TZOFFSETTO:-0500
TZNAME:CDT
DTSTART:20200308T080000
END:DAYLIGHT
BEGIN:STANDARD
TZOFFSETFROM:-0500
TZOFFSETTO:-0600
TZNAME:CST
DTSTART:20201101T070000
END:STANDARD
END:VTIMEZONE
BEGIN:VEVENT
DTSTART;TZID=America/Chicago:20190315T070000
DTEND;TZID=America/Chicago:20190324T130000
DTSTAMP:20260422T223336
CREATED:20180523T023019Z
LAST-MODIFIED:20180523T023019Z
UID:10003977-1552633200-1553432400@marionmilitary.edu
SUMMARY:Spring Break
DESCRIPTION:
URL:https://marionmilitary.edu/event-calendar/spring-break-2/
CATEGORIES:Holidays and Breaks
END:VEVENT
BEGIN:VEVENT
DTSTART;TZID=America/Chicago:20190319T080000
DTEND;TZID=America/Chicago:20190319T100000
DTSTAMP:20260422T223336
CREATED:20181120T032415Z
LAST-MODIFIED:20181120T032415Z
UID:10004106-1552982400-1552989600@marionmilitary.edu
SUMMARY:Softball - Home
DESCRIPTION:MMI vs. Southern Union State Community College; games at 1:00 pm and 3:00 pm
URL:https://marionmilitary.edu/event-calendar/softball-home-13/
LOCATION:Soldier’s Field
CATEGORIES:Athletics
END:VEVENT
BEGIN:VEVENT
DTSTART;TZID=America/Chicago:20190321T070000
DTEND;TZID=America/Chicago:20190321T120000
DTSTAMP:20260422T223336
CREATED:20181115T211350Z
LAST-MODIFIED:20181115T211350Z
UID:10004081-1553151600-1553169600@marionmilitary.edu
SUMMARY:Baseball - Home
DESCRIPTION:MMI vs. Snead State Community College; games at 12:00 pm and 3:00 pm
URL:https://marionmilitary.edu/event-calendar/baseball-home-17/
LOCATION:Scott G. Davis Field
CATEGORIES:Athletics
END:VEVENT
BEGIN:VEVENT
DTSTART;TZID=America/Chicago:20190323T070000
DTEND;TZID=America/Chicago:20190323T120000
DTSTAMP:20260422T223336
CREATED:20181115T211826Z
LAST-MODIFIED:20181115T211826Z
UID:10004082-1553324400-1553342400@marionmilitary.edu
SUMMARY:Baseball - Away
DESCRIPTION:MMI at Snead State Community College; games at 12:00 pm and 3:00 pm
URL:https://marionmilitary.edu/event-calendar/baseball-away-26/
CATEGORIES:Athletics
END:VEVENT
BEGIN:VEVENT
DTSTART;TZID=America/Chicago:20190323T080000
DTEND;TZID=America/Chicago:20190323T100000
DTSTAMP:20260422T223336
CREATED:20181120T032616Z
LAST-MODIFIED:20181120T032616Z
UID:10004107-1553328000-1553335200@marionmilitary.edu
SUMMARY:Softball - Away
DESCRIPTION:MMI at Calhoun Community College; games at 1:00 pm and 3:00 pm
URL:https://marionmilitary.edu/event-calendar/softball-away-18/
CATEGORIES:Athletics
END:VEVENT
BEGIN:VEVENT
DTSTART;TZID=America/Chicago:20190324T093000
DTEND;TZID=America/Chicago:20190324T113000
DTSTAMP:20260422T223336
CREATED:20180911T204400Z
LAST-MODIFIED:20180911T204400Z
UID:10004007-1553419800-1553427000@marionmilitary.edu
SUMMARY:Spring Break Shuttle Return to MMI
DESCRIPTION:For flights arriving before 1430\, a shuttle from the Birmingham Airport will depart at 1430 and arrive at MMI around 1630. \nPlease visit this page to arrange transportation.
URL:https://marionmilitary.edu/event-calendar/spring-break-shuttle-return-to-mmi/
CATEGORIES:Holidays and Breaks
END:VEVENT
END:VCALENDAR