BEGIN:VCALENDAR
VERSION:2.0
PRODID:-//Marion Military Institute - ECPv6.15.20//NONSGML v1.0//EN
CALSCALE:GREGORIAN
METHOD:PUBLISH
X-ORIGINAL-URL:https://marionmilitary.edu
X-WR-CALDESC:Events for Marion Military Institute
REFRESH-INTERVAL;VALUE=DURATION:PT1H
X-Robots-Tag:noindex
X-PUBLISHED-TTL:PT1H
BEGIN:VTIMEZONE
TZID:America/Chicago
BEGIN:DAYLIGHT
TZOFFSETFROM:-0600
TZOFFSETTO:-0500
TZNAME:CDT
DTSTART:20180311T080000
END:DAYLIGHT
BEGIN:STANDARD
TZOFFSETFROM:-0500
TZOFFSETTO:-0600
TZNAME:CST
DTSTART:20181104T070000
END:STANDARD
BEGIN:DAYLIGHT
TZOFFSETFROM:-0600
TZOFFSETTO:-0500
TZNAME:CDT
DTSTART:20190310T080000
END:DAYLIGHT
BEGIN:STANDARD
TZOFFSETFROM:-0500
TZOFFSETTO:-0600
TZNAME:CST
DTSTART:20191103T070000
END:STANDARD
BEGIN:DAYLIGHT
TZOFFSETFROM:-0600
TZOFFSETTO:-0500
TZNAME:CDT
DTSTART:20200308T080000
END:DAYLIGHT
BEGIN:STANDARD
TZOFFSETFROM:-0500
TZOFFSETTO:-0600
TZNAME:CST
DTSTART:20201101T070000
END:STANDARD
END:VTIMEZONE
BEGIN:VEVENT
DTSTART;TZID=America/Chicago:20190501T123000
DTEND;TZID=America/Chicago:20190501T143000
DTSTAMP:20260421T121122
CREATED:20190320T233648Z
LAST-MODIFIED:20190327T204348Z
UID:10004141-1556713800-1556721000@marionmilitary.edu
SUMMARY:Montgomery Mixer
DESCRIPTION:The Alumni Brigade and Hosts cordially invite you to a happy hour for Central Alabama MMI alumni and friends. \nCentral\n129 Coosa Street Montgomery\, Alabama 36104 \nWednesday\, May 1st 5:30 pm – 7:30 pm
URL:https://marionmilitary.edu/event-calendar/montgomery-mixer-2/
LOCATION:Central\, 129 Coosa Street\, Montgomery\, Alabama\, 36104
CATEGORIES:Alumni
ORGANIZER;CN="MMI Alumni Affairs":MAILTO:alumni@marionmilitary.edu
GEO:32.3801811;-86.3105623
X-APPLE-STRUCTURED-LOCATION;VALUE=URI;X-ADDRESS=Central 129 Coosa Street Montgomery Alabama 36104;X-APPLE-RADIUS=500;X-TITLE=129 Coosa Street:geo:-86.3105623,32.3801811
END:VEVENT
BEGIN:VEVENT
DTSTART;TZID=America/Chicago:20190502T070000
DTEND;TZID=America/Chicago:20190502T120000
DTSTAMP:20260421T121122
CREATED:20181115T222323Z
LAST-MODIFIED:20181115T222351Z
UID:10004091-1556780400-1556798400@marionmilitary.edu
SUMMARY:Baseball - Away
DESCRIPTION:MMI at Wallace State Community College – Hanceville; games at 12:00 pm and 3:00 pm
URL:https://marionmilitary.edu/event-calendar/baseball-away-32/
CATEGORIES:Athletics
END:VEVENT
BEGIN:VEVENT
DTSTART;VALUE=DATE:20190502
DTEND;VALUE=DATE:20190504
DTSTAMP:20260421T121122
CREATED:20180523T023319Z
LAST-MODIFIED:20180523T023319Z
UID:10003978-1556823600-1556909999@marionmilitary.edu
SUMMARY:Last Day of Classes
DESCRIPTION:
URL:https://marionmilitary.edu/event-calendar/last-day-of-classes-2/
END:VEVENT
BEGIN:VEVENT
DTSTART;TZID=America/Chicago:20190504T070000
DTEND;TZID=America/Chicago:20190504T120000
DTSTAMP:20260421T121122
CREATED:20181115T223032Z
LAST-MODIFIED:20181115T223032Z
UID:10004092-1556953200-1556971200@marionmilitary.edu
SUMMARY:Baseball - Home
DESCRIPTION:MMI vs. Wallace State Community College – Hanceville; games at 12:00 pm and 3:00 pm
URL:https://marionmilitary.edu/event-calendar/baseball-home-21/
LOCATION:Scott G. Davis Field
CATEGORIES:Athletics
END:VEVENT
BEGIN:VEVENT
DTSTART;VALUE=DATE:20190505
DTEND;VALUE=DATE:20190509
DTSTAMP:20260421T121122
CREATED:20180523T023401Z
LAST-MODIFIED:20180523T023401Z
UID:10003979-1557082800-1557341999@marionmilitary.edu
SUMMARY:Final Exams
DESCRIPTION:
URL:https://marionmilitary.edu/event-calendar/final-exams-2/
END:VEVENT
END:VCALENDAR